BEGIN:VCALENDAR
VERSION:2.0
PRODID:-//420 School - ECPv6.15.20//NONSGML v1.0//EN
CALSCALE:GREGORIAN
METHOD:PUBLISH
X-ORIGINAL-URL:https://420.school
X-WR-CALDESC:Events for 420 School
REFRESH-INTERVAL;VALUE=DURATION:PT1H
X-Robots-Tag:noindex
X-PUBLISHED-TTL:PT1H
BEGIN:VTIMEZONE
TZID:America/Los_Angeles
BEGIN:DAYLIGHT
TZOFFSETFROM:-0800
TZOFFSETTO:-0700
TZNAME:PDT
DTSTART:20250309T100000
END:DAYLIGHT
BEGIN:STANDARD
TZOFFSETFROM:-0700
TZOFFSETTO:-0800
TZNAME:PST
DTSTART:20251102T090000
END:STANDARD
BEGIN:DAYLIGHT
TZOFFSETFROM:-0800
TZOFFSETTO:-0700
TZNAME:PDT
DTSTART:20260308T100000
END:DAYLIGHT
BEGIN:STANDARD
TZOFFSETFROM:-0700
TZOFFSETTO:-0800
TZNAME:PST
DTSTART:20261101T090000
END:STANDARD
BEGIN:DAYLIGHT
TZOFFSETFROM:-0800
TZOFFSETTO:-0700
TZNAME:PDT
DTSTART:20270314T100000
END:DAYLIGHT
BEGIN:STANDARD
TZOFFSETFROM:-0700
TZOFFSETTO:-0800
TZNAME:PST
DTSTART:20271107T090000
END:STANDARD
END:VTIMEZONE
BEGIN:VEVENT
DTSTART;TZID=America/Los_Angeles:20260414T000000
DTEND;TZID=America/Los_Angeles:20260420T000000
DTSTAMP:20260423T153008
CREATED:20260125T181216Z
LAST-MODIFIED:20260203T230818Z
UID:5351-1776124800-1776643200@420.school
SUMMARY:SF Space Walk 2026
DESCRIPTION:The New Model: Running from April 14–20\, SF Space Walk consists of “drop parties” at various lounges\, introducing consumers to specific growers like Sense\, Snowtill\, and Sunset Connect.\nArtistic Integration: A 22-day graphic art exhibition titled “Get to the Bag” at Mirus Gallery elevates cannabis packaging to fine art.\nHippie Hill Update: Official 4/20 festivities at Hippie Hill were canceled due to budget deficits\, replaced by a non-cannabis sports event called “Peace\, Love and Volo Field Day”.\n\nShare this:\n				Share on Bluesky (Opens in new window)\n				Bluesky\n			\n				Share on Reddit (Opens in new window)\n				Reddit\n			\n				Share on Pinterest (Opens in new window)\n				Pinterest\n			\n				Share on Facebook (Opens in new window)\n				Facebook\n			\n				Share on X (Opens in new window)\n				X\n			Like this:Like Loading...
URL:https://420.school/event/sf-space-walk-2026/
CATEGORIES:B2B,Culture,Events,Retail
ATTACH;FMTTYPE=image/png:https://420.school/wp-content/uploads/2026/01/image-8.png
END:VEVENT
END:VCALENDAR