BEGIN:VCALENDAR
VERSION:2.0
PRODID:-//420 School - ECPv6.15.20//NONSGML v1.0//EN
CALSCALE:GREGORIAN
METHOD:PUBLISH
X-WR-CALNAME:420 School
X-ORIGINAL-URL:https://420.school
X-WR-CALDESC:Events for 420 School
REFRESH-INTERVAL;VALUE=DURATION:PT1H
X-Robots-Tag:noindex
X-PUBLISHED-TTL:PT1H
BEGIN:VTIMEZONE
TZID:America/New_York
BEGIN:DAYLIGHT
TZOFFSETFROM:-0500
TZOFFSETTO:-0400
TZNAME:EDT
DTSTART:20250309T070000
END:DAYLIGHT
BEGIN:STANDARD
TZOFFSETFROM:-0400
TZOFFSETTO:-0500
TZNAME:EST
DTSTART:20251102T060000
END:STANDARD
BEGIN:DAYLIGHT
TZOFFSETFROM:-0500
TZOFFSETTO:-0400
TZNAME:EDT
DTSTART:20260308T070000
END:DAYLIGHT
BEGIN:STANDARD
TZOFFSETFROM:-0400
TZOFFSETTO:-0500
TZNAME:EST
DTSTART:20261101T060000
END:STANDARD
BEGIN:DAYLIGHT
TZOFFSETFROM:-0500
TZOFFSETTO:-0400
TZNAME:EDT
DTSTART:20270314T070000
END:DAYLIGHT
BEGIN:STANDARD
TZOFFSETFROM:-0400
TZOFFSETTO:-0500
TZNAME:EST
DTSTART:20271107T060000
END:STANDARD
END:VTIMEZONE
BEGIN:VTIMEZONE
TZID:Europe/London
BEGIN:DAYLIGHT
TZOFFSETFROM:+0000
TZOFFSETTO:+0100
TZNAME:BST
DTSTART:20250330T010000
END:DAYLIGHT
BEGIN:STANDARD
TZOFFSETFROM:+0100
TZOFFSETTO:+0000
TZNAME:GMT
DTSTART:20251026T010000
END:STANDARD
BEGIN:DAYLIGHT
TZOFFSETFROM:+0000
TZOFFSETTO:+0100
TZNAME:BST
DTSTART:20260329T010000
END:DAYLIGHT
BEGIN:STANDARD
TZOFFSETFROM:+0100
TZOFFSETTO:+0000
TZNAME:GMT
DTSTART:20261025T010000
END:STANDARD
BEGIN:DAYLIGHT
TZOFFSETFROM:+0000
TZOFFSETTO:+0100
TZNAME:BST
DTSTART:20270328T010000
END:DAYLIGHT
BEGIN:STANDARD
TZOFFSETFROM:+0100
TZOFFSETTO:+0000
TZNAME:GMT
DTSTART:20271031T010000
END:STANDARD
END:VTIMEZONE
BEGIN:VEVENT
DTSTART;TZID=America/New_York:20260424T100000
DTEND;TZID=America/New_York:20260425T160000
DTSTAMP:20260423T121204
CREATED:20260123T013100Z
LAST-MODIFIED:20260125T181218Z
UID:5111-1777024800-1777132800@420.school
SUMMARY:NECANN Boston 2026
DESCRIPTION:One of the largest B2B events of the season\, drawing thousands of operators and featuring over 300 exhibitors across cultivation and retail. [cite: 79\, 80] \nShare this:\n				Share on Bluesky (Opens in new window)\n				Bluesky\n			\n				Share on Reddit (Opens in new window)\n				Reddit\n			\n				Share on Pinterest (Opens in new window)\n				Pinterest\n			\n				Share on Facebook (Opens in new window)\n				Facebook\n			\n				Share on X (Opens in new window)\n				X\n			Like this:Like Loading...
URL:https://420.school/event/necann-boston-2026/
LOCATION:Hynes Convention Center\, 900 Boylston St\, Boston\, Massachusetts\, 02115\, United States
CATEGORIES:B2B,Events,Expo,New England
ATTACH;FMTTYPE=image/png:https://420.school/wp-content/uploads/2026/01/NECANN-horozontal-white-z3YABx.png
END:VEVENT
BEGIN:VEVENT
DTSTART;TZID=Europe/London:20260526T090000
DTEND;TZID=Europe/London:20260527T180000
DTSTAMP:20260423T121204
CREATED:20260123T024250Z
LAST-MODIFIED:20260123T024250Z
UID:5170-1779786000-1779904800@420.school
SUMMARY:Cannabis Europa London
DESCRIPTION:The leading strategy conference for the European cannabis sector.  \nAgenda includes:  \n\nPolicy & Regulation: Navigating UK and EU frameworks.\nInvestment: Connecting North American capital with European assets.\nMedical Access: NHS integration and patient pathways.\n\nShare this:\n				Share on Bluesky (Opens in new window)\n				Bluesky\n			\n				Share on Reddit (Opens in new window)\n				Reddit\n			\n				Share on Pinterest (Opens in new window)\n				Pinterest\n			\n				Share on Facebook (Opens in new window)\n				Facebook\n			\n				Share on X (Opens in new window)\n				X\n			Like this:Like Loading...
URL:https://420.school/event/cannabis-europa-london/
CATEGORIES:Conference,Events,Investment,Policy
END:VEVENT
END:VCALENDAR