BEGIN:VCALENDAR
VERSION:2.0
PRODID:-//420 School - ECPv6.15.20//NONSGML v1.0//EN
CALSCALE:GREGORIAN
METHOD:PUBLISH
X-WR-CALNAME:420 School
X-ORIGINAL-URL:https://420.school
X-WR-CALDESC:Events for 420 School
REFRESH-INTERVAL;VALUE=DURATION:PT1H
X-Robots-Tag:noindex
X-PUBLISHED-TTL:PT1H
BEGIN:VTIMEZONE
TZID:America/Chicago
BEGIN:DAYLIGHT
TZOFFSETFROM:-0600
TZOFFSETTO:-0500
TZNAME:CDT
DTSTART:20230312T080000
END:DAYLIGHT
BEGIN:STANDARD
TZOFFSETFROM:-0500
TZOFFSETTO:-0600
TZNAME:CST
DTSTART:20231105T070000
END:STANDARD
BEGIN:DAYLIGHT
TZOFFSETFROM:-0600
TZOFFSETTO:-0500
TZNAME:CDT
DTSTART:20240310T080000
END:DAYLIGHT
BEGIN:STANDARD
TZOFFSETFROM:-0500
TZOFFSETTO:-0600
TZNAME:CST
DTSTART:20241103T070000
END:STANDARD
BEGIN:DAYLIGHT
TZOFFSETFROM:-0600
TZOFFSETTO:-0500
TZNAME:CDT
DTSTART:20250309T080000
END:DAYLIGHT
BEGIN:STANDARD
TZOFFSETFROM:-0500
TZOFFSETTO:-0600
TZNAME:CST
DTSTART:20251102T070000
END:STANDARD
END:VTIMEZONE
BEGIN:VEVENT
DTSTART;TZID=America/Chicago:20240719T080000
DTEND;TZID=America/Chicago:20240721T170000
DTSTAMP:20260425T232232
CREATED:20240220T210945Z
LAST-MODIFIED:20240220T210948Z
UID:325-1721376000-1721581200@420.school
SUMMARY:Northern Nights Music Festival
DESCRIPTION:The Northern Nights Music Festival\, a cannabis-friendly event that takes place in California every year. The festival features live music\, art\, camping\, and a special area called the Tree Lounge\, where attendees can legally buy and consume cannabis products from various brands and dispensaries. The festival also offers educational and wellness activities related to cannabis\, such as medicated dining\, cannabis yoga\, and panel discussions. The festival is considered a pioneer and a trendsetter in the music-meets-cannabis space\, as it was the first to have legal onsite cannabis sales and consumption\, and the first to have multiple onsite dispensaries at different stages. The festival aims to celebrate the cannabis culture and community\, as well as the natural beauty of the Emerald Triangle\, the heart of cannabis country \n\n\n\nI hope this gives you a good overview of the website and the festival. If you are interested\, you can check out their lineup\, camping options\, and media gallery for more information. 😊 \n\n\n\n\n\n\n\n\n\n\nShare this:\n				Share on Bluesky (Opens in new window)\n				Bluesky\n			\n				Share on Reddit (Opens in new window)\n				Reddit\n			\n				Share on Pinterest (Opens in new window)\n				Pinterest\n			\n				Share on Facebook (Opens in new window)\n				Facebook\n			\n				Share on X (Opens in new window)\n				X\n			Like this:Like Loading...
URL:https://420.school/event/northern-nights-music-festival/
LOCATION:Cook’s Valley Campground\, Piercy\, California\, United States
CATEGORIES:Events
ATTACH;FMTTYPE=image/webp:https://420.school/wp-content/uploads/2024/02/NNMF-Logo-WHT.webp
END:VEVENT
END:VCALENDAR