BEGIN:VCALENDAR
VERSION:2.0
PRODID:-//420 School - ECPv6.15.20//NONSGML v1.0//EN
CALSCALE:GREGORIAN
METHOD:PUBLISH
X-WR-CALNAME:420 School
X-ORIGINAL-URL:https://420.school
X-WR-CALDESC:Events for 420 School
REFRESH-INTERVAL;VALUE=DURATION:PT1H
X-Robots-Tag:noindex
X-PUBLISHED-TTL:PT1H
BEGIN:VTIMEZONE
TZID:Australia/Sydney
BEGIN:STANDARD
TZOFFSETFROM:+1100
TZOFFSETTO:+1000
TZNAME:AEST
DTSTART:20250405T160000
END:STANDARD
BEGIN:DAYLIGHT
TZOFFSETFROM:+1000
TZOFFSETTO:+1100
TZNAME:AEDT
DTSTART:20251004T160000
END:DAYLIGHT
BEGIN:STANDARD
TZOFFSETFROM:+1100
TZOFFSETTO:+1000
TZNAME:AEST
DTSTART:20260404T160000
END:STANDARD
BEGIN:DAYLIGHT
TZOFFSETFROM:+1000
TZOFFSETTO:+1100
TZNAME:AEDT
DTSTART:20261003T160000
END:DAYLIGHT
BEGIN:STANDARD
TZOFFSETFROM:+1100
TZOFFSETTO:+1000
TZNAME:AEST
DTSTART:20270403T160000
END:STANDARD
BEGIN:DAYLIGHT
TZOFFSETFROM:+1000
TZOFFSETTO:+1100
TZNAME:AEDT
DTSTART:20271002T160000
END:DAYLIGHT
END:VTIMEZONE
BEGIN:VTIMEZONE
TZID:America/Chicago
BEGIN:DAYLIGHT
TZOFFSETFROM:-0600
TZOFFSETTO:-0500
TZNAME:CDT
DTSTART:20250309T080000
END:DAYLIGHT
BEGIN:STANDARD
TZOFFSETFROM:-0500
TZOFFSETTO:-0600
TZNAME:CST
DTSTART:20251102T070000
END:STANDARD
BEGIN:DAYLIGHT
TZOFFSETFROM:-0600
TZOFFSETTO:-0500
TZNAME:CDT
DTSTART:20260308T080000
END:DAYLIGHT
BEGIN:STANDARD
TZOFFSETFROM:-0500
TZOFFSETTO:-0600
TZNAME:CST
DTSTART:20261101T070000
END:STANDARD
BEGIN:DAYLIGHT
TZOFFSETFROM:-0600
TZOFFSETTO:-0500
TZNAME:CDT
DTSTART:20270314T080000
END:DAYLIGHT
BEGIN:STANDARD
TZOFFSETFROM:-0500
TZOFFSETTO:-0600
TZNAME:CST
DTSTART:20271107T070000
END:STANDARD
END:VTIMEZONE
BEGIN:VTIMEZONE
TZID:America/New_York
BEGIN:DAYLIGHT
TZOFFSETFROM:-0500
TZOFFSETTO:-0400
TZNAME:EDT
DTSTART:20250309T070000
END:DAYLIGHT
BEGIN:STANDARD
TZOFFSETFROM:-0400
TZOFFSETTO:-0500
TZNAME:EST
DTSTART:20251102T060000
END:STANDARD
BEGIN:DAYLIGHT
TZOFFSETFROM:-0500
TZOFFSETTO:-0400
TZNAME:EDT
DTSTART:20260308T070000
END:DAYLIGHT
BEGIN:STANDARD
TZOFFSETFROM:-0400
TZOFFSETTO:-0500
TZNAME:EST
DTSTART:20261101T060000
END:STANDARD
BEGIN:DAYLIGHT
TZOFFSETFROM:-0500
TZOFFSETTO:-0400
TZNAME:EDT
DTSTART:20270314T070000
END:DAYLIGHT
BEGIN:STANDARD
TZOFFSETFROM:-0400
TZOFFSETTO:-0500
TZNAME:EST
DTSTART:20271107T060000
END:STANDARD
END:VTIMEZONE
BEGIN:VTIMEZONE
TZID:America/Sao_Paulo
BEGIN:STANDARD
TZOFFSETFROM:-0300
TZOFFSETTO:-0300
TZNAME:-03
DTSTART:20250101T000000
END:STANDARD
END:VTIMEZONE
BEGIN:VTIMEZONE
TZID:Europe/London
BEGIN:DAYLIGHT
TZOFFSETFROM:+0000
TZOFFSETTO:+0100
TZNAME:BST
DTSTART:20250330T010000
END:DAYLIGHT
BEGIN:STANDARD
TZOFFSETFROM:+0100
TZOFFSETTO:+0000
TZNAME:GMT
DTSTART:20251026T010000
END:STANDARD
BEGIN:DAYLIGHT
TZOFFSETFROM:+0000
TZOFFSETTO:+0100
TZNAME:BST
DTSTART:20260329T010000
END:DAYLIGHT
BEGIN:STANDARD
TZOFFSETFROM:+0100
TZOFFSETTO:+0000
TZNAME:GMT
DTSTART:20261025T010000
END:STANDARD
BEGIN:DAYLIGHT
TZOFFSETFROM:+0000
TZOFFSETTO:+0100
TZNAME:BST
DTSTART:20270328T010000
END:DAYLIGHT
BEGIN:STANDARD
TZOFFSETFROM:+0100
TZOFFSETTO:+0000
TZNAME:GMT
DTSTART:20271031T010000
END:STANDARD
END:VTIMEZONE
BEGIN:VTIMEZONE
TZID:Africa/Johannesburg
BEGIN:STANDARD
TZOFFSETFROM:+0200
TZOFFSETTO:+0200
TZNAME:SAST
DTSTART:20250101T000000
END:STANDARD
END:VTIMEZONE
BEGIN:VTIMEZONE
TZID:Europe/Zurich
BEGIN:DAYLIGHT
TZOFFSETFROM:+0100
TZOFFSETTO:+0200
TZNAME:CEST
DTSTART:20250330T010000
END:DAYLIGHT
BEGIN:STANDARD
TZOFFSETFROM:+0200
TZOFFSETTO:+0100
TZNAME:CET
DTSTART:20251026T010000
END:STANDARD
BEGIN:DAYLIGHT
TZOFFSETFROM:+0100
TZOFFSETTO:+0200
TZNAME:CEST
DTSTART:20260329T010000
END:DAYLIGHT
BEGIN:STANDARD
TZOFFSETFROM:+0200
TZOFFSETTO:+0100
TZNAME:CET
DTSTART:20261025T010000
END:STANDARD
BEGIN:DAYLIGHT
TZOFFSETFROM:+0100
TZOFFSETTO:+0200
TZNAME:CEST
DTSTART:20270328T010000
END:DAYLIGHT
BEGIN:STANDARD
TZOFFSETFROM:+0200
TZOFFSETTO:+0100
TZNAME:CET
DTSTART:20271031T010000
END:STANDARD
END:VTIMEZONE
BEGIN:VEVENT
DTSTART;TZID=Australia/Sydney:20260501T100000
DTEND;TZID=Australia/Sydney:20260503T230000
DTSTAMP:20260423T121136
CREATED:20260123T024249Z
LAST-MODIFIED:20260123T024249Z
UID:5168-1777629600-1777849200@420.school
SUMMARY:MardiGrass
DESCRIPTION:Australia’s legendary protestival. A unique cultural gathering focused on law reform and celebration.  \nIncludes:  \n\nThe Hemp Olympix.\nGanja Faeries Parade.\nLaw reform rallies and educational talks.\n\nShare this:\n				Share on Bluesky (Opens in new window)\n				Bluesky\n			\n				Share on Reddit (Opens in new window)\n				Reddit\n			\n				Share on Pinterest (Opens in new window)\n				Pinterest\n			\n				Share on Facebook (Opens in new window)\n				Facebook\n			\n				Share on X (Opens in new window)\n				X\n			Like this:Like Loading...
URL:https://420.school/event/mardigrass/
LOCATION:Minnesota
CATEGORIES:Activism,Culture,Events,Festival
END:VEVENT
BEGIN:VEVENT
DTSTART;TZID=America/Chicago:20260505T083000
DTEND;TZID=America/Chicago:20260507T170000
DTSTAMP:20260423T121136
CREATED:20260123T013101Z
LAST-MODIFIED:20260123T014052Z
UID:5113-1777969800-1778173200@420.school
SUMMARY:Benzinga Cannabis Capital Conference Chicago 2026
DESCRIPTION:The premier venue for capital formation in the cannabis sector. Institutional investors\, family offices\, and MSO executives converge in Chicago to discuss market valuations\, M&A\, and federal policy impacts on the industry’s bottom line. \nShare this:\n				Share on Bluesky (Opens in new window)\n				Bluesky\n			\n				Share on Reddit (Opens in new window)\n				Reddit\n			\n				Share on Pinterest (Opens in new window)\n				Pinterest\n			\n				Share on Facebook (Opens in new window)\n				Facebook\n			\n				Share on X (Opens in new window)\n				X\n			Like this:Like Loading...
URL:https://420.school/event/benzinga-cannabis-capital-conference-chicago-2026/
LOCATION:Minnesota
CATEGORIES:Events,Finance,Investment,MSO
END:VEVENT
BEGIN:VEVENT
DTSTART;TZID=America/New_York:20260505T090000
DTEND;TZID=America/New_York:20260507T170000
DTSTAMP:20260423T121136
CREATED:20260123T013100Z
LAST-MODIFIED:20260123T014052Z
UID:5112-1777971600-1778173200@420.school
SUMMARY:MJ Unpacked Atlantic City 2026
DESCRIPTION:An exclusive\, highly curated event connecting licensed operators with accredited investors. MJ Unpacked bypasses general admission to focus strictly on deal flow\, brand partnership\, and capital infusion in the burgeoning New Jersey market. \nShare this:\n				Share on Bluesky (Opens in new window)\n				Bluesky\n			\n				Share on Reddit (Opens in new window)\n				Reddit\n			\n				Share on Pinterest (Opens in new window)\n				Pinterest\n			\n				Share on Facebook (Opens in new window)\n				Facebook\n			\n				Share on X (Opens in new window)\n				X\n			Like this:Like Loading...
URL:https://420.school/event/mj-unpacked-atlantic-city-2026/
LOCATION:Minnesota
CATEGORIES:B2B,Events,Executive,Investment
END:VEVENT
BEGIN:VEVENT
DTSTART;TZID=America/New_York:20260508T100000
DTEND;TZID=America/New_York:20260509T150000
DTSTAMP:20260423T121136
CREATED:20260123T013101Z
LAST-MODIFIED:20260123T014053Z
UID:5114-1778234400-1778338800@420.school
SUMMARY:NECANN Vermont 2026
DESCRIPTION:Focused on the unique craft and small-business landscape of Vermont’s cannabis market. NECANN Vermont creates a space for legacy growers and craft producers to network with ancillary providers\, emphasizing quality over scale. \nShare this:\n				Share on Bluesky (Opens in new window)\n				Bluesky\n			\n				Share on Reddit (Opens in new window)\n				Reddit\n			\n				Share on Pinterest (Opens in new window)\n				Pinterest\n			\n				Share on Facebook (Opens in new window)\n				Facebook\n			\n				Share on X (Opens in new window)\n				X\n			Like this:Like Loading...
URL:https://420.school/event/necann-vermont-2026/
LOCATION:Minnesota
CATEGORIES:B2B,Craft,Events,New England
ATTACH;FMTTYPE=image/png:https://420.school/wp-content/uploads/2026/01/NECANN-horozontal-white-z3YABx.png
END:VEVENT
BEGIN:VEVENT
DTSTART;TZID=America/Chicago:20260514T100000
DTEND;TZID=America/Chicago:20260515T150000
DTSTAMP:20260423T121136
CREATED:20260123T013115Z
LAST-MODIFIED:20260123T014106Z
UID:5115-1778752800-1778857200@420.school
SUMMARY:NECANN Minnesota 2026
DESCRIPTION:Connecting the expanding Minnesota market with national resources and regional expertise. As Minnesota operationalizes its adult-use program\, this event serves as a critical infrastructure building hub for new licensees. \nShare this:\n				Share on Bluesky (Opens in new window)\n				Bluesky\n			\n				Share on Reddit (Opens in new window)\n				Reddit\n			\n				Share on Pinterest (Opens in new window)\n				Pinterest\n			\n				Share on Facebook (Opens in new window)\n				Facebook\n			\n				Share on X (Opens in new window)\n				X\n			Like this:Like Loading...
URL:https://420.school/event/necann-minnesota-2026/
LOCATION:Minneapolis Convention Center\, 1301 2nd Ave S\,\, Minneapolis\,\, Minnesota\, 55404\, United States
CATEGORIES:B2B,Events,Midwest,Retail
ATTACH;FMTTYPE=image/png:https://420.school/wp-content/uploads/2026/01/NECANN-horozontal-white-z3YABx.png
END:VEVENT
BEGIN:VEVENT
DTSTART;TZID=America/Sao_Paulo:20260521T090000
DTEND;TZID=America/Sao_Paulo:20260523T180000
DTSTAMP:20260423T121136
CREATED:20260123T024250Z
LAST-MODIFIED:20260123T024250Z
UID:5169-1779354000-1779559200@420.school
SUMMARY:Cannabis Fair Sao Paulo
DESCRIPTION:Brazil’s leading B2B industry event. Formerly the Medical Cannabis Fair\, now rebranded to reflect the broader market.  \nFocus:  \n\nPharmaceutical and medical supply chains.\nIndustrial hemp applications.\nLegislative reform in Brazil.\n\nShare this:\n				Share on Bluesky (Opens in new window)\n				Bluesky\n			\n				Share on Reddit (Opens in new window)\n				Reddit\n			\n				Share on Pinterest (Opens in new window)\n				Pinterest\n			\n				Share on Facebook (Opens in new window)\n				Facebook\n			\n				Share on X (Opens in new window)\n				X\n			Like this:Like Loading...
URL:https://420.school/event/cannabis-fair-sao-paulo/
LOCATION:Minnesota
CATEGORIES:B2B,Events,Expo,Medical
END:VEVENT
BEGIN:VEVENT
DTSTART;TZID=Europe/London:20260526T090000
DTEND;TZID=Europe/London:20260527T180000
DTSTAMP:20260423T121136
CREATED:20260123T024250Z
LAST-MODIFIED:20260123T024250Z
UID:5170-1779786000-1779904800@420.school
SUMMARY:Cannabis Europa London
DESCRIPTION:The leading strategy conference for the European cannabis sector.  \nAgenda includes:  \n\nPolicy & Regulation: Navigating UK and EU frameworks.\nInvestment: Connecting North American capital with European assets.\nMedical Access: NHS integration and patient pathways.\n\nShare this:\n				Share on Bluesky (Opens in new window)\n				Bluesky\n			\n				Share on Reddit (Opens in new window)\n				Reddit\n			\n				Share on Pinterest (Opens in new window)\n				Pinterest\n			\n				Share on Facebook (Opens in new window)\n				Facebook\n			\n				Share on X (Opens in new window)\n				X\n			Like this:Like Loading...
URL:https://420.school/event/cannabis-europa-london/
LOCATION:Minnesota
CATEGORIES:Conference,Events,Investment,Policy
END:VEVENT
BEGIN:VEVENT
DTSTART;TZID=Africa/Johannesburg:20260529T100000
DTEND;TZID=Africa/Johannesburg:20260531T180000
DTSTAMP:20260423T121136
CREATED:20260123T024251Z
LAST-MODIFIED:20260123T024251Z
UID:5172-1780048800-1780250400@420.school
SUMMARY:The Cannabis Expo Johannesburg
DESCRIPTION:Africa’s largest cannabis event\, serving as the gateway to the continental market.  \nIncludes:  \n\nThe Freedom Festival: Music and culture.\nThe Shroom Expo: Psilocybin advocacy and education.\nCannabis Food Market: Culinary innovations.\n\nShare this:\n				Share on Bluesky (Opens in new window)\n				Bluesky\n			\n				Share on Reddit (Opens in new window)\n				Reddit\n			\n				Share on Pinterest (Opens in new window)\n				Pinterest\n			\n				Share on Facebook (Opens in new window)\n				Facebook\n			\n				Share on X (Opens in new window)\n				X\n			Like this:Like Loading...
URL:https://420.school/event/the-cannabis-expo-johannesburg/
LOCATION:Minnesota
CATEGORIES:Events,Expo,Festival,Market
END:VEVENT
BEGIN:VEVENT
DTSTART;TZID=Europe/Zurich:20260529T110000
DTEND;TZID=Europe/Zurich:20260531T180000
DTSTAMP:20260423T121136
CREATED:20260123T024251Z
LAST-MODIFIED:20260123T024251Z
UID:5171-1780052400-1780250400@420.school
SUMMARY:CannaTrade 2026
DESCRIPTION:Europe’s oldest hemp fair celebrates its 25th Anniversary.  \nFeatures:  \n\nB2B Day (Friday): Exclusive industry networking.\nConsumer Festival (Sat/Sun): CBD\, lifestyle\, and culture.\nShowcase of Swiss ‘Pilot Project’ innovations.\n\nShare this:\n				Share on Bluesky (Opens in new window)\n				Bluesky\n			\n				Share on Reddit (Opens in new window)\n				Reddit\n			\n				Share on Pinterest (Opens in new window)\n				Pinterest\n			\n				Share on Facebook (Opens in new window)\n				Facebook\n			\n				Share on X (Opens in new window)\n				X\n			Like this:Like Loading...
URL:https://420.school/event/cannatrade-2026/
LOCATION:Minnesota
CATEGORIES:B2B,Events,Expo,Festival
END:VEVENT
END:VCALENDAR