BEGIN:VCALENDAR
VERSION:2.0
PRODID:-//420 School - ECPv6.15.20//NONSGML v1.0//EN
CALSCALE:GREGORIAN
METHOD:PUBLISH
X-ORIGINAL-URL:https://420.school
X-WR-CALDESC:Events for 420 School
REFRESH-INTERVAL;VALUE=DURATION:PT1H
X-Robots-Tag:noindex
X-PUBLISHED-TTL:PT1H
BEGIN:VTIMEZONE
TZID:America/Chicago
BEGIN:DAYLIGHT
TZOFFSETFROM:-0600
TZOFFSETTO:-0500
TZNAME:CDT
DTSTART:20230312T080000
END:DAYLIGHT
BEGIN:STANDARD
TZOFFSETFROM:-0500
TZOFFSETTO:-0600
TZNAME:CST
DTSTART:20231105T070000
END:STANDARD
BEGIN:DAYLIGHT
TZOFFSETFROM:-0600
TZOFFSETTO:-0500
TZNAME:CDT
DTSTART:20240310T080000
END:DAYLIGHT
BEGIN:STANDARD
TZOFFSETFROM:-0500
TZOFFSETTO:-0600
TZNAME:CST
DTSTART:20241103T070000
END:STANDARD
BEGIN:DAYLIGHT
TZOFFSETFROM:-0600
TZOFFSETTO:-0500
TZNAME:CDT
DTSTART:20250309T080000
END:DAYLIGHT
BEGIN:STANDARD
TZOFFSETFROM:-0500
TZOFFSETTO:-0600
TZNAME:CST
DTSTART:20251102T070000
END:STANDARD
END:VTIMEZONE
BEGIN:VTIMEZONE
TZID:UTC
BEGIN:STANDARD
TZOFFSETFROM:+0000
TZOFFSETTO:+0000
TZNAME:UTC
DTSTART:20230101T000000
END:STANDARD
END:VTIMEZONE
BEGIN:VEVENT
DTSTART;TZID=America/Chicago:20240809T080000
DTEND;TZID=America/Chicago:20240811T170000
DTSTAMP:20260425T221447
CREATED:20240220T212721Z
LAST-MODIFIED:20240220T212724Z
UID:330-1723190400-1723395600@420.school
SUMMARY:Outside Lands Music Festival
DESCRIPTION:The Outside Lands Music Festival\, a three-day event that celebrates music\, food\, wine\, beer\, art\, cannabis\, and everything we love about the Bay Area. The festival takes place every year in Golden Gate Park in San Francisco\, California. The festival features a diverse lineup of musical acts\, ranging from rock\, pop\, hip-hop\, electronic\, indie\, and more. Some of the headliners for 2024 include Lizzo\, Tame Impala\, The Strokes\, and Tyler\, the Creator. The festival also offers a variety of experiences\, such as gourmet food and drinks\, comedy shows\, art installations\, wellness activities\, and a cannabis marketplace. The festival is one of the most popular and acclaimed music festivals in the country\, attracting over 200\,000 attendees every year.If you are interested in attending the festival\, you can check out their website for more information on tickets\, lineup\, camping\, and more. \n\n\n\n\n\n\n\n\n\n\nShare this:\n				Share on Bluesky (Opens in new window)\n				Bluesky\n			\n				Share on Reddit (Opens in new window)\n				Reddit\n			\n				Share on Pinterest (Opens in new window)\n				Pinterest\n			\n				Share on Facebook (Opens in new window)\n				Facebook\n			\n				Share on X (Opens in new window)\n				X\n			Like this:Like Loading...
URL:https://420.school/event/outside-lands-music-festival/
LOCATION:Robin Williams Meadow Golden Gate Park\, Robin Williams Meadow Golden Gate Park\, California\, United States
ATTACH;FMTTYPE=image/jpeg:https://420.school/wp-content/uploads/2024/02/OL24_Logo_DATES_SANFRAN_Horizontal_Regular_RGB_CORNSILK.jpg
END:VEVENT
BEGIN:VEVENT
DTSTART;TZID=America/Chicago:20240816T080000
DTEND;TZID=America/Chicago:20240817T170000
DTSTAMP:20260425T221447
CREATED:20240213T223256Z
LAST-MODIFIED:20240213T223259Z
UID:264-1723795200-1723914000@420.school
SUMMARY:CannaCon St. Paul
DESCRIPTION:The CannaCon Midwest St. Paul\, taking place on August 16-17\, 2024\, at the Saint Paul River Center\, is a significant expo for the cannabis industry. It marks a continuation of successful annual events in St. Paul since 2018\, emphasizing the growth of the Midwest’s cannabis sector. The expo is designed for networking\, showcasing the latest in cultivation supplies\, industry innovations\, and business strategies. It offers a comprehensive platform for professionals ranging from seed to financial investment\, highlighting its significance in fostering the region’s cannabis industry development.  \n\n\n\nFor more information\, you can check their website: CannaCon Midwest St. Paul. \n\n\n\n\n\n\n\n\n\n\nShare this:\n				Share on Bluesky (Opens in new window)\n				Bluesky\n			\n				Share on Reddit (Opens in new window)\n				Reddit\n			\n				Share on Pinterest (Opens in new window)\n				Pinterest\n			\n				Share on Facebook (Opens in new window)\n				Facebook\n			\n				Share on X (Opens in new window)\n				X\n			Like this:Like Loading...
URL:https://420.school/event/cannacon-midwest/
LOCATION:Saint Paul River Center\, 175 Kellogg Blvd\, St Paul\, Minnesota\, United States
CATEGORIES:Events
ATTACH;FMTTYPE=image/webp:https://420.school/wp-content/uploads/2024/01/CannaCon-Logo-Registered.webp
END:VEVENT
BEGIN:VEVENT
DTSTART;TZID=UTC:20240820T080000
DTEND;TZID=UTC:20240822T170000
DTSTAMP:20260425T221447
CREATED:20240127T002009Z
LAST-MODIFIED:20240127T002012Z
UID:84-1724140800-1724346000@420.school
SUMMARY:Cannabis Business Times Conference
DESCRIPTION:The Cannabis Business Times Conference is a premier event for professionals in the dispensary and cultivation sectors\, focusing exclusively on plant-touching cannabis businesses. It offers unparalleled educational opportunities\, gathering the industry’s leading minds to discuss the latest trends and innovations.  \n\n\n\nAttendees will experience a world-class trade show floor featuring cutting-edge technology and services. Ideal for newcomers to the legal cannabis market and experienced operators aiming to elevate their businesses\, the conference is a must-attend event for insight into emerging industry trends. The 2024 event in Las Vegas is eagerly anticipated by industry influencers\, providing a unique platform for knowledge sharing. \n\n\n\n\n\n\n\n\n\n\nShare this:\n				Share on Bluesky (Opens in new window)\n				Bluesky\n			\n				Share on Reddit (Opens in new window)\n				Reddit\n			\n				Share on Pinterest (Opens in new window)\n				Pinterest\n			\n				Share on Facebook (Opens in new window)\n				Facebook\n			\n				Share on X (Opens in new window)\n				X\n			Like this:Like Loading...
URL:https://420.school/event/cannabis-business-times-conference/
LOCATION:PARIS LAS VEGAS HOTEL & CASINO\, 3655 S Las Vegas Blvd\, Las Vegas\, Nevada\, 89109\, United States
ATTACH;FMTTYPE=image/png:https://420.school/wp-content/uploads/2024/01/green-cbt-conference-2024-logo300x.png
END:VEVENT
END:VCALENDAR