BEGIN:VCALENDAR
VERSION:2.0
PRODID:-//420 School - ECPv6.15.20//NONSGML v1.0//EN
CALSCALE:GREGORIAN
METHOD:PUBLISH
X-ORIGINAL-URL:https://420.school
X-WR-CALDESC:Events for 420 School
REFRESH-INTERVAL;VALUE=DURATION:PT1H
X-Robots-Tag:noindex
X-PUBLISHED-TTL:PT1H
BEGIN:VTIMEZONE
TZID:UTC
BEGIN:STANDARD
TZOFFSETFROM:+0000
TZOFFSETTO:+0000
TZNAME:UTC
DTSTART:20230101T000000
END:STANDARD
END:VTIMEZONE
BEGIN:VEVENT
DTSTART;TZID=UTC:20240224T100000
DTEND;TZID=UTC:20240225T180000
DTSTAMP:20260423T162347
CREATED:20240125T054042Z
LAST-MODIFIED:20240129T031338Z
UID:41-1708768800-1708884000@420.school
SUMMARY:CONNECTICUT CANNABIS EXPO
DESCRIPTION:The Connecticut Cannabis Expo\, organized by XpoCanna\, is scheduled for February 24-25\, 2024\, at the Sky Convention Center at Mohegan Sun. This event combines a cannabis business convention\, consumer expo\, and the X Cup Cannabis Competition awards. It offers educational seminars\, discussions on cannabis advocacy\, research\, education\, political landscape\, and more. Additionally\, the expo provides opportunities for cannabis businesses\, entrepreneurs\, and investors to engage in panel discussions and networking. \n\n\n\nFor further information on the event\, including ticket details\, exhibitor lists\, and seminar applications\, you can visit the event’s page here. \n\n\n\n\n\n\n\n\n\n\n\n\n\n\nShare this:\n				Share on Bluesky (Opens in new window)\n				Bluesky\n			\n				Share on Reddit (Opens in new window)\n				Reddit\n			\n				Share on Pinterest (Opens in new window)\n				Pinterest\n			\n				Share on Facebook (Opens in new window)\n				Facebook\n			\n				Share on X (Opens in new window)\n				X\n			Like this:Like Loading...
URL:https://420.school/event/connecticut-cannabis-expo/
LOCATION:SKY CONVENTION CENTER AT MOHEGAN SUN\, 1 MOHEGAN SUN BLVD\, CT 06382\, UNCASVILLE\, Connecticut\, 06382\, United States
ATTACH;FMTTYPE=image/png:https://420.school/wp-content/uploads/2024/01/xpocanna-facebook-profile-copy-225x225-1.png
END:VEVENT
END:VCALENDAR