BEGIN:VCALENDAR
VERSION:2.0
PRODID:-//420 School - ECPv6.15.20//NONSGML v1.0//EN
CALSCALE:GREGORIAN
METHOD:PUBLISH
X-WR-CALNAME:420 School
X-ORIGINAL-URL:https://420.school
X-WR-CALDESC:Events for 420 School
REFRESH-INTERVAL;VALUE=DURATION:PT1H
X-Robots-Tag:noindex
X-PUBLISHED-TTL:PT1H
BEGIN:VTIMEZONE
TZID:UTC
BEGIN:STANDARD
TZOFFSETFROM:+0000
TZOFFSETTO:+0000
TZNAME:UTC
DTSTART:20230101T000000
END:STANDARD
END:VTIMEZONE
BEGIN:VTIMEZONE
TZID:America/Chicago
BEGIN:DAYLIGHT
TZOFFSETFROM:-0600
TZOFFSETTO:-0500
TZNAME:CDT
DTSTART:20230312T080000
END:DAYLIGHT
BEGIN:STANDARD
TZOFFSETFROM:-0500
TZOFFSETTO:-0600
TZNAME:CST
DTSTART:20231105T070000
END:STANDARD
BEGIN:DAYLIGHT
TZOFFSETFROM:-0600
TZOFFSETTO:-0500
TZNAME:CDT
DTSTART:20240310T080000
END:DAYLIGHT
BEGIN:STANDARD
TZOFFSETFROM:-0500
TZOFFSETTO:-0600
TZNAME:CST
DTSTART:20241103T070000
END:STANDARD
BEGIN:DAYLIGHT
TZOFFSETFROM:-0600
TZOFFSETTO:-0500
TZNAME:CDT
DTSTART:20250309T080000
END:DAYLIGHT
BEGIN:STANDARD
TZOFFSETFROM:-0500
TZOFFSETTO:-0600
TZNAME:CST
DTSTART:20251102T070000
END:STANDARD
END:VTIMEZONE
BEGIN:VEVENT
DTSTART;TZID=UTC:20240419T080000
DTEND;TZID=UTC:20240420T180000
DTSTAMP:20260423T180856
CREATED:20240126T043623Z
LAST-MODIFIED:20240318T202917Z
UID:62-1713513600-1713636000@420.school
SUMMARY:8th Annual National Cannabis Festival
DESCRIPTION:The National Cannabis Festival is scheduled for April 19 & 20\, 2024\, at the RFK Campus in Washington\, D.C. This event celebrates legal cannabis with a variety of experiences\, including a two-day concert featuring the Wu-Tang Clan and Redman\, and Thundercat. The festival also offers an exhibitor fair\, a munchies zone\, educational segments\, and advocacy opportunities. It provides a platform for cannabis enthusiasts and industry professionals to engage in culture\, education\, and policy discussions. \n\n\n\nFor more details and ticket information\, you can visit the event’s page here. \n\n\n\n\n\n\n\n\n\n\nShare this:\n				Share on Bluesky (Opens in new window)\n				Bluesky\n			\n				Share on Reddit (Opens in new window)\n				Reddit\n			\n				Share on Pinterest (Opens in new window)\n				Pinterest\n			\n				Share on Facebook (Opens in new window)\n				Facebook\n			\n				Share on X (Opens in new window)\n				X\n			Like this:Like Loading...
URL:https://420.school/event/8th-annual-national-cannabis-festival/
LOCATION:The Fields at RFK Campus-Washington DC\, 401 Oklahoma Ave NE\,\, Washington\, District of Columbia\, 20002\, United States
CATEGORIES:Events
ATTACH;FMTTYPE=image/png:https://420.school/wp-content/uploads/2024/01/ncf2024-concert-square1.png
END:VEVENT
BEGIN:VEVENT
DTSTART;TZID=UTC:20240418T080000
DTEND;TZID=UTC:20240420T170000
DTSTAMP:20260423T180856
CREATED:20240129T032358Z
LAST-MODIFIED:20240401T221005Z
UID:130-1713427200-1713632400@420.school
SUMMARY:Virginia 420 Festival-Misty Mountain Campground
DESCRIPTION:The Virginia 420 Festival is a vibrant event celebrating cannabis culture with a diverse lineup of musical artists. The festival features performances from various genres\, offering attendees an eclectic mix of sounds and styles. Notable artists include local and regional talents\, each bringing their unique musical flair to the event. The festival combines the enjoyment of music with cannabis culture\, making it a unique experience for attendees.  \n\n\n\nFor more details about the event and the complete list of performers\, visit Virginia 420 Festival. \n\n\n\n\n\n\n\n\n\n\n\n\n\n\nShare this:\n				Share on Bluesky (Opens in new window)\n				Bluesky\n			\n				Share on Reddit (Opens in new window)\n				Reddit\n			\n				Share on Pinterest (Opens in new window)\n				Pinterest\n			\n				Share on Facebook (Opens in new window)\n				Facebook\n			\n				Share on X (Opens in new window)\n				X\n			Like this:Like Loading...
URL:https://420.school/event/virginia420festival-2/
LOCATION:Misty Mountain Campground\, 56 Misty Mountain Rd\, Greenwood\, Virginia\, 22943\, United States
CATEGORIES:Events
ATTACH;FMTTYPE=image/webp:https://420.school/wp-content/uploads/2024/01/v420festival.webp
END:VEVENT
BEGIN:VEVENT
DTSTART;TZID=UTC:20240418T080000
DTEND;TZID=UTC:20240420T170000
DTSTAMP:20260423T180856
CREATED:20240129T020829Z
LAST-MODIFIED:20240410T213116Z
UID:119-1713427200-1713632400@420.school
SUMMARY:Virginia 420 Festival-Garret Farms
DESCRIPTION:The Virginia 420 Festival is a vibrant event celebrating cannabis culture with a diverse lineup of musical artists. The festival features performances from various genres\, offering attendees an eclectic mix of sounds and styles. Notable artists include local and regional talents\, each bringing their unique musical flair to the event. The festival combines the enjoyment of music with cannabis culture\, making it a unique experience for attendees.  \n\n\n\nFor more details about the event and the complete list of performers\, visit Virginia 420 Festival. \n\n\n\nA more in-depth look at the festival can be found here 420.school/information/virginia-420-festival/ \n\n\n\n\n\n\n\n\n\n\nShare this:\n				Share on Bluesky (Opens in new window)\n				Bluesky\n			\n				Share on Reddit (Opens in new window)\n				Reddit\n			\n				Share on Pinterest (Opens in new window)\n				Pinterest\n			\n				Share on Facebook (Opens in new window)\n				Facebook\n			\n				Share on X (Opens in new window)\n				X\n			Like this:Like Loading...
URL:https://420.school/event/virginia420festival/
LOCATION:Garret Farms\, 4283 Barley Dr\, Salem\, Virginia\, 24153\, United States
ATTACH;FMTTYPE=image/webp:https://420.school/wp-content/uploads/2024/01/v420festival.webp
END:VEVENT
BEGIN:VEVENT
DTSTART;TZID=America/Chicago:20240413T080000
DTEND;TZID=America/Chicago:20240414T170000
DTSTAMP:20260423T180856
CREATED:20240219T231326Z
LAST-MODIFIED:20240219T231328Z
UID:319-1712995200-1713114000@420.school
SUMMARY:FLORIDA GROVES: MUSIC - ART - FREEDOM
DESCRIPTION:Florida Groves is an annual music and art festival that celebrates the pillars of music\, art\, and freedom. The festival features diverse musical genres\, live art installations\, glassblowing demonstrations\, tattoo artists\, and cannabis culture. The festival aims to inspire\, connect\, and uplift individuals\, fostering a vibrant tapestry of culture and creativity that leaves an indelible mark on the community. The 2024 lineup includes artists such as Milky Chance\, Michael Franti & Spearhead\, Tribal Seeds\, Atmosphere\, Two Feet\, and many more. The festival will take place on April 13-14\, 2024 at the Central Florida Fairgrounds in Orlando\, Florida.  \n\n\n\nTickets are on sale now at the official website.  \n\n\n\nDon’t miss this opportunity to join the Florida Groves family and experience the ultimate celebration of music\, art\, and freedom \n\n\n\n\n\n\n\n\n\n\nShare this:\n				Share on Bluesky (Opens in new window)\n				Bluesky\n			\n				Share on Reddit (Opens in new window)\n				Reddit\n			\n				Share on Pinterest (Opens in new window)\n				Pinterest\n			\n				Share on Facebook (Opens in new window)\n				Facebook\n			\n				Share on X (Opens in new window)\n				X\n			Like this:Like Loading...
URL:https://420.school/event/florida-groves-music-and-art-festival/
LOCATION:Central Florida Fairgrounds\, 4603 W Colonial Dr\, Orlando\, Florida\, 32808\, United States
CATEGORIES:Events
ATTACH;FMTTYPE=image/webp:https://420.school/wp-content/uploads/2024/02/hmpg-middle-logo.webp
END:VEVENT
BEGIN:VEVENT
DTSTART;TZID=America/Chicago:20240406T120000
DTEND;TZID=America/Chicago:20240406T200000
DTSTAMP:20260423T180856
CREATED:20240219T225528Z
LAST-MODIFIED:20240407T010515Z
UID:314-1712404800-1712433600@420.school
SUMMARY:MISSOURI CANNABIS FESTIVAL
DESCRIPTION:Missouri Cannabis Festival: A Celebration of Cannabis Culture and Education \n\n\n\nIf you are a cannabis enthusiast or curious about the plant\, you won’t want to miss the Missouri Cannabis Festival on April 6\, 2024. This is a one-day indoor event that features live music\, vendors\, seminars\, and smoking lounges at the Regalia Hotel & Conference Center at Lake of the Ozarks. \n\n\n\nThe festival will showcase the best of the cannabis and hemp industries\, with over 50 vendors from dispensaries\, growers\, head shops\, glass blowers\, and more. You will have the opportunity to learn about the latest products\, trends\, and innovations in the cannabis space\, as well as network with other like-minded people. \n\n\n\nYou will also enjoy a lineup of cannabis-friendly musical acts\, including the headliner Grateful Dead Experience: The Schwag\, a tribute band that will play a special set for the cannabis crowd. In addition\, there will be seminars and guest speakers covering a variety of topics related to cannabis\, such as cultivation\, legalization\, health benefits\, and more. \n\n\n\nThe festival is open to anyone 21 and over\, or 18 and over with a medical card. You do not need a medical card to enter the smoking lounges\, where you can enjoy your own cannabis or sample some from the vendors. There will also be food and beverage options\, including a coffee bar and an infused cocktail bar. \n\n\n\nThe festival runs from noon to 8 pm\, but the fun doesn’t stop there. You can also join the late night parties at the hotel’s bars and restaurants\, or book a room at the Regalia Hotel and enjoy its luxury amenities\, such as a fitness center\, a spa\, and a pool. \n\n\n\nThe admission fee is only $5\, which is a bargain for such a jam-packed event. You can buy your tickets online at the festival’s website or at the door. You can also find more information about the event\, such as the vendor list\, the seminar schedule\, and the lodging options\, on the website. \n\n\n\nDon’t miss this chance to celebrate cannabis culture and education at the Missouri Cannabis Festival. It will be a day to remember! 🌿 \n\n\n\nHere’s another Missouri event: \n\n\n\n\nMissouri’s Croptoberfest 2024: A Deep Dive into the Celebration of Cannabis Culture\n\n\n\n\nLearn more\n\n\n\n1mocannafest.com2mocannafest.com3mocannafest.com \n\n\n\n\n\n\n\n\n\n\nShare this:\n				Share on Bluesky (Opens in new window)\n				Bluesky\n			\n				Share on Reddit (Opens in new window)\n				Reddit\n			\n				Share on Pinterest (Opens in new window)\n				Pinterest\n			\n				Share on Facebook (Opens in new window)\n				Facebook\n			\n				Share on X (Opens in new window)\n				X\n			Like this:Like Loading...
URL:https://420.school/event/missouri-cannabis-festival/
LOCATION:REGALIA HOTEL AND CONFERENCE CENTER\, 250 Racquet Club Dr.\, Lake Ozark\, Missouri\, 65049\, United States
CATEGORIES:Events
ATTACH;FMTTYPE=image/jpeg:https://420.school/wp-content/uploads/2024/02/Wide1-mocannafest8.jpg
END:VEVENT
BEGIN:VEVENT
DTSTART;TZID=UTC:20240405T080000
DTEND;TZID=UTC:20240406T170000
DTSTAMP:20260423T180856
CREATED:20240129T041904Z
LAST-MODIFIED:20240129T041940Z
UID:135-1712304000-1712422800@420.school
SUMMARY:CannaCon-OKC
DESCRIPTION:CannaCon is a leading B2B cannabis conference and expo in the United States. It serves as a comprehensive platform for cannabis business needs\, including cultivation\, innovation\, education\, legal advice\, and more. The event features hundreds of exhibitors\, dozens of speakers\, and attracts thousands of attendees. It’s designed for various stakeholders in the cannabis industry\, from consumers and employees to entrepreneurs and investors\, offering opportunities for networking\, business growth\, and industry insights. \n\n\n\nFor more detailed information and to explore the event further\, you can visit the CannaCon website here. \n\n\n\n\n\n\n\n\n\n\n\n\n\n\nShare this:\n				Share on Bluesky (Opens in new window)\n				Bluesky\n			\n				Share on Reddit (Opens in new window)\n				Reddit\n			\n				Share on Pinterest (Opens in new window)\n				Pinterest\n			\n				Share on Facebook (Opens in new window)\n				Facebook\n			\n				Share on X (Opens in new window)\n				X\n			Like this:Like Loading...
URL:https://420.school/event/cannacon-okc/
LOCATION:OKC Convention Center\, 100 Mick Cornett Drive\, OKC\, Oklahoma\, 73109\, United States
ATTACH;FMTTYPE=image/webp:https://420.school/wp-content/uploads/2024/01/CannaCon-Logo-Registered.webp
END:VEVENT
BEGIN:VEVENT
DTSTART;TZID=America/Chicago:20240401T080000
DTEND;TZID=America/Chicago:20240403T170000
DTSTAMP:20260423T180856
CREATED:20240215T205002Z
LAST-MODIFIED:20240215T205005Z
UID:270-1711958400-1712163600@420.school
SUMMARY:The Emerald Conference 
DESCRIPTION:The Emerald Conference is known for being a premier event in the cannabis industry\, focusing on science and technology. It brings together experts\, scientists\, researchers\, and professionals from the cannabis industry to share insights\, research findings\, and advancements in cannabis science and technology. The conference typically features a wide range of topics\, including but not limited to extraction methods\, analytical testing\, product formulation\, and quality assurance. \n\n\n\nAttendees can expect a variety of presentations\, panel discussions\, and workshops designed to foster learning and collaboration. It’s also an excellent opportunity for networking\, allowing participants to connect with peers\, industry leaders\, and innovators. \n\n\n\nFor the most current details about The Emerald Conference\, including dates\, location\, speakers\, and registration information\, please visit their official website directly\, see link below. \n\n\n\n\n\n\n\n\n\n\nShare this:\n				Share on Bluesky (Opens in new window)\n				Bluesky\n			\n				Share on Reddit (Opens in new window)\n				Reddit\n			\n				Share on Pinterest (Opens in new window)\n				Pinterest\n			\n				Share on Facebook (Opens in new window)\n				Facebook\n			\n				Share on X (Opens in new window)\n				X\n			Like this:Like Loading...
URL:https://420.school/event/the-emerald-conference/
LOCATION:Loews Coronado Bay\, San Diego\, California\, United States
CATEGORIES:Events
ATTACH;FMTTYPE=image/png:https://420.school/wp-content/uploads/2024/02/EmeraldLogo_Digital_BlackBackgrounproducedby-01.png
END:VEVENT
BEGIN:VEVENT
DTSTART;TZID=UTC:20240322T080000
DTEND;TZID=UTC:20240323T160000
DTSTAMP:20260423T180856
CREATED:20240127T075113Z
LAST-MODIFIED:20240127T075116Z
UID:89-1711094400-1711209600@420.school
SUMMARY:2024 New England Cannabis Convention
DESCRIPTION:NECANN (New England Cannabis Convention) organizes the largest series of cannabis expos in the United States. These events\, held in various cities\, cater to cannabis industry professionals\, offering opportunities for networking\, education\, and showcasing products and services.  \n\n\n\nThe conventions are tailored to the specific cannabis market of each location\, fostering collaboration with local industries and communities. They have grown significantly since their inception in 2014\, becoming vital hubs for resources and communication in the Northeast cannabis industry and beyond. For more information\, visit NECANN. \n\n\n\n\n\n\n\n\n\n\nShare this:\n				Share on Bluesky (Opens in new window)\n				Bluesky\n			\n				Share on Reddit (Opens in new window)\n				Reddit\n			\n				Share on Pinterest (Opens in new window)\n				Pinterest\n			\n				Share on Facebook (Opens in new window)\n				Facebook\n			\n				Share on X (Opens in new window)\n				X\n			Like this:Like Loading...
URL:https://420.school/event/2024-new-england-cannabis-convention/
LOCATION:Hynes Convention Center\, 900 Boylston St\, Boston\, Massachusetts\, 02115\, United States
CATEGORIES:Events
ATTACH;FMTTYPE=image/webp:https://420.school/wp-content/uploads/2024/01/necann-logo-400-times-200-px-.webp
END:VEVENT
BEGIN:VEVENT
DTSTART;TZID=America/Chicago:20240314T080000
DTEND;TZID=America/Chicago:20240316T170000
DTSTAMP:20260423T180856
CREATED:20240131T224104Z
LAST-MODIFIED:20240217T175418Z
UID:161-1710403200-1710608400@420.school
SUMMARY:Alternative Products Expo-Miami
DESCRIPTION:The Alternative Products Expo in Miami is a major show focusing on alternative health products including hemp\, CBD\, and kratom. It serves as a platform for businesses to showcase their products\, network\, and learn about industry trends. The expo features a range of exhibitors and speakers\, offering valuable insights and opportunities for both industry professionals and consumers.  \n\n\n\n\n\n\n\nFor more information\, visit Alternative Products Expo Miami. \n\n\n\n\n\n\n\n\n\n\nShare this:\n				Share on Bluesky (Opens in new window)\n				Bluesky\n			\n				Share on Reddit (Opens in new window)\n				Reddit\n			\n				Share on Pinterest (Opens in new window)\n				Pinterest\n			\n				Share on Facebook (Opens in new window)\n				Facebook\n			\n				Share on X (Opens in new window)\n				X\n			Like this:Like Loading...
URL:https://420.school/event/alternative-products-expo-miami/
LOCATION:Mana Winwood Convention Center\, Florida\, 33127\, United States
CATEGORIES:Events
ATTACH;FMTTYPE=image/png:https://420.school/wp-content/uploads/2024/01/AltPro_header_logo.png
END:VEVENT
BEGIN:VEVENT
DTSTART;TZID=America/Chicago:20240313T080000
DTEND;TZID=America/Chicago:20240314T170000
DTSTAMP:20260423T180856
CREATED:20240131T224929Z
LAST-MODIFIED:20240131T224931Z
UID:166-1710316800-1710435600@420.school
SUMMARY:Hall of Flowers at Ventura County Fairgrounds
DESCRIPTION:The Hall of Flowers event in California is a premier trade show for the cannabis industry\, connecting top brands and buyers in a business-to-business setting. It features a curated selection of brands and is renowned for its high-quality networking opportunities\, educational sessions\, and showcasing of innovative products. The event aims to advance the cannabis industry by fostering connections and promoting growth. \n\n\n\nThe event showcases a wide range of cannabis brands and products\, providing a platform for networking and industry advancement. It’s known for attracting key players in the cannabis sector\, including retailers and distributors\, and features educational sessions and innovative product displays.  \n\n\n\nFor an in-depth look at the event\, visit Hall of Flowers California. \n\n\n\n\n\n\n\n\n\n\nShare this:\n				Share on Bluesky (Opens in new window)\n				Bluesky\n			\n				Share on Reddit (Opens in new window)\n				Reddit\n			\n				Share on Pinterest (Opens in new window)\n				Pinterest\n			\n				Share on Facebook (Opens in new window)\n				Facebook\n			\n				Share on X (Opens in new window)\n				X\n			Like this:Like Loading...
URL:https://420.school/event/hall-of-flowers/
LOCATION:Ventura County Fairgrounds\, Ventura\, California\, United States
CATEGORIES:Events
ATTACH;FMTTYPE=image/png:https://420.school/wp-content/uploads/2024/01/HOF_Logo.png
END:VEVENT
BEGIN:VEVENT
DTSTART;TZID=UTC:20240224T100000
DTEND;TZID=UTC:20240225T180000
DTSTAMP:20260423T180856
CREATED:20240125T054042Z
LAST-MODIFIED:20240129T031338Z
UID:41-1708768800-1708884000@420.school
SUMMARY:CONNECTICUT CANNABIS EXPO
DESCRIPTION:The Connecticut Cannabis Expo\, organized by XpoCanna\, is scheduled for February 24-25\, 2024\, at the Sky Convention Center at Mohegan Sun. This event combines a cannabis business convention\, consumer expo\, and the X Cup Cannabis Competition awards. It offers educational seminars\, discussions on cannabis advocacy\, research\, education\, political landscape\, and more. Additionally\, the expo provides opportunities for cannabis businesses\, entrepreneurs\, and investors to engage in panel discussions and networking. \n\n\n\nFor further information on the event\, including ticket details\, exhibitor lists\, and seminar applications\, you can visit the event’s page here. \n\n\n\n\n\n\n\n\n\n\n\n\n\n\nShare this:\n				Share on Bluesky (Opens in new window)\n				Bluesky\n			\n				Share on Reddit (Opens in new window)\n				Reddit\n			\n				Share on Pinterest (Opens in new window)\n				Pinterest\n			\n				Share on Facebook (Opens in new window)\n				Facebook\n			\n				Share on X (Opens in new window)\n				X\n			Like this:Like Loading...
URL:https://420.school/event/connecticut-cannabis-expo/
LOCATION:SKY CONVENTION CENTER AT MOHEGAN SUN\, 1 MOHEGAN SUN BLVD\, CT 06382\, UNCASVILLE\, Connecticut\, 06382\, United States
ATTACH;FMTTYPE=image/png:https://420.school/wp-content/uploads/2024/01/xpocanna-facebook-profile-copy-225x225-1.png
END:VEVENT
END:VCALENDAR