BEGIN:VCALENDAR
VERSION:2.0
PRODID:-//420 School - ECPv6.15.20//NONSGML v1.0//EN
CALSCALE:GREGORIAN
METHOD:PUBLISH
X-WR-CALNAME:420 School
X-ORIGINAL-URL:https://420.school
X-WR-CALDESC:Events for 420 School
REFRESH-INTERVAL;VALUE=DURATION:PT1H
X-Robots-Tag:noindex
X-PUBLISHED-TTL:PT1H
BEGIN:VTIMEZONE
TZID:Europe/Berlin
BEGIN:DAYLIGHT
TZOFFSETFROM:+0100
TZOFFSETTO:+0200
TZNAME:CEST
DTSTART:20250330T010000
END:DAYLIGHT
BEGIN:STANDARD
TZOFFSETFROM:+0200
TZOFFSETTO:+0100
TZNAME:CET
DTSTART:20251026T010000
END:STANDARD
BEGIN:DAYLIGHT
TZOFFSETFROM:+0100
TZOFFSETTO:+0200
TZNAME:CEST
DTSTART:20260329T010000
END:DAYLIGHT
BEGIN:STANDARD
TZOFFSETFROM:+0200
TZOFFSETTO:+0100
TZNAME:CET
DTSTART:20261025T010000
END:STANDARD
BEGIN:DAYLIGHT
TZOFFSETFROM:+0100
TZOFFSETTO:+0200
TZNAME:CEST
DTSTART:20270328T010000
END:DAYLIGHT
BEGIN:STANDARD
TZOFFSETFROM:+0200
TZOFFSETTO:+0100
TZNAME:CET
DTSTART:20271031T010000
END:STANDARD
END:VTIMEZONE
BEGIN:VTIMEZONE
TZID:America/New_York
BEGIN:DAYLIGHT
TZOFFSETFROM:-0500
TZOFFSETTO:-0400
TZNAME:EDT
DTSTART:20250309T070000
END:DAYLIGHT
BEGIN:STANDARD
TZOFFSETFROM:-0400
TZOFFSETTO:-0500
TZNAME:EST
DTSTART:20251102T060000
END:STANDARD
BEGIN:DAYLIGHT
TZOFFSETFROM:-0500
TZOFFSETTO:-0400
TZNAME:EDT
DTSTART:20260308T070000
END:DAYLIGHT
BEGIN:STANDARD
TZOFFSETFROM:-0400
TZOFFSETTO:-0500
TZNAME:EST
DTSTART:20261101T060000
END:STANDARD
BEGIN:DAYLIGHT
TZOFFSETFROM:-0500
TZOFFSETTO:-0400
TZNAME:EDT
DTSTART:20270314T070000
END:DAYLIGHT
BEGIN:STANDARD
TZOFFSETFROM:-0400
TZOFFSETTO:-0500
TZNAME:EST
DTSTART:20271107T060000
END:STANDARD
END:VTIMEZONE
BEGIN:VTIMEZONE
TZID:America/Chicago
BEGIN:DAYLIGHT
TZOFFSETFROM:-0600
TZOFFSETTO:-0500
TZNAME:CDT
DTSTART:20250309T080000
END:DAYLIGHT
BEGIN:STANDARD
TZOFFSETFROM:-0500
TZOFFSETTO:-0600
TZNAME:CST
DTSTART:20251102T070000
END:STANDARD
BEGIN:DAYLIGHT
TZOFFSETFROM:-0600
TZOFFSETTO:-0500
TZNAME:CDT
DTSTART:20260308T080000
END:DAYLIGHT
BEGIN:STANDARD
TZOFFSETFROM:-0500
TZOFFSETTO:-0600
TZNAME:CST
DTSTART:20261101T070000
END:STANDARD
BEGIN:DAYLIGHT
TZOFFSETFROM:-0600
TZOFFSETTO:-0500
TZNAME:CDT
DTSTART:20270314T080000
END:DAYLIGHT
BEGIN:STANDARD
TZOFFSETFROM:-0500
TZOFFSETTO:-0600
TZNAME:CST
DTSTART:20271107T070000
END:STANDARD
END:VTIMEZONE
BEGIN:VTIMEZONE
TZID:America/Detroit
BEGIN:DAYLIGHT
TZOFFSETFROM:-0500
TZOFFSETTO:-0400
TZNAME:EDT
DTSTART:20250309T070000
END:DAYLIGHT
BEGIN:STANDARD
TZOFFSETFROM:-0400
TZOFFSETTO:-0500
TZNAME:EST
DTSTART:20251102T060000
END:STANDARD
BEGIN:DAYLIGHT
TZOFFSETFROM:-0500
TZOFFSETTO:-0400
TZNAME:EDT
DTSTART:20260308T070000
END:DAYLIGHT
BEGIN:STANDARD
TZOFFSETFROM:-0400
TZOFFSETTO:-0500
TZNAME:EST
DTSTART:20261101T060000
END:STANDARD
BEGIN:DAYLIGHT
TZOFFSETFROM:-0500
TZOFFSETTO:-0400
TZNAME:EDT
DTSTART:20270314T070000
END:DAYLIGHT
BEGIN:STANDARD
TZOFFSETFROM:-0400
TZOFFSETTO:-0500
TZNAME:EST
DTSTART:20271107T060000
END:STANDARD
END:VTIMEZONE
BEGIN:VTIMEZONE
TZID:Australia/Melbourne
BEGIN:STANDARD
TZOFFSETFROM:+1100
TZOFFSETTO:+1000
TZNAME:AEST
DTSTART:20250405T160000
END:STANDARD
BEGIN:DAYLIGHT
TZOFFSETFROM:+1000
TZOFFSETTO:+1100
TZNAME:AEDT
DTSTART:20251004T160000
END:DAYLIGHT
BEGIN:STANDARD
TZOFFSETFROM:+1100
TZOFFSETTO:+1000
TZNAME:AEST
DTSTART:20260404T160000
END:STANDARD
BEGIN:DAYLIGHT
TZOFFSETFROM:+1000
TZOFFSETTO:+1100
TZNAME:AEDT
DTSTART:20261003T160000
END:DAYLIGHT
BEGIN:STANDARD
TZOFFSETFROM:+1100
TZOFFSETTO:+1000
TZNAME:AEST
DTSTART:20270403T160000
END:STANDARD
BEGIN:DAYLIGHT
TZOFFSETFROM:+1000
TZOFFSETTO:+1100
TZNAME:AEDT
DTSTART:20271002T160000
END:DAYLIGHT
END:VTIMEZONE
BEGIN:VTIMEZONE
TZID:America/Los_Angeles
BEGIN:DAYLIGHT
TZOFFSETFROM:-0800
TZOFFSETTO:-0700
TZNAME:PDT
DTSTART:20250309T100000
END:DAYLIGHT
BEGIN:STANDARD
TZOFFSETFROM:-0700
TZOFFSETTO:-0800
TZNAME:PST
DTSTART:20251102T090000
END:STANDARD
BEGIN:DAYLIGHT
TZOFFSETFROM:-0800
TZOFFSETTO:-0700
TZNAME:PDT
DTSTART:20260308T100000
END:DAYLIGHT
BEGIN:STANDARD
TZOFFSETFROM:-0700
TZOFFSETTO:-0800
TZNAME:PST
DTSTART:20261101T090000
END:STANDARD
BEGIN:DAYLIGHT
TZOFFSETFROM:-0800
TZOFFSETTO:-0700
TZNAME:PDT
DTSTART:20270314T100000
END:DAYLIGHT
BEGIN:STANDARD
TZOFFSETFROM:-0700
TZOFFSETTO:-0800
TZNAME:PST
DTSTART:20271107T090000
END:STANDARD
END:VTIMEZONE
BEGIN:VTIMEZONE
TZID:America/Denver
BEGIN:DAYLIGHT
TZOFFSETFROM:-0700
TZOFFSETTO:-0600
TZNAME:MDT
DTSTART:20250309T090000
END:DAYLIGHT
BEGIN:STANDARD
TZOFFSETFROM:-0600
TZOFFSETTO:-0700
TZNAME:MST
DTSTART:20251102T080000
END:STANDARD
BEGIN:DAYLIGHT
TZOFFSETFROM:-0700
TZOFFSETTO:-0600
TZNAME:MDT
DTSTART:20260308T090000
END:DAYLIGHT
BEGIN:STANDARD
TZOFFSETFROM:-0600
TZOFFSETTO:-0700
TZNAME:MST
DTSTART:20261101T080000
END:STANDARD
BEGIN:DAYLIGHT
TZOFFSETFROM:-0700
TZOFFSETTO:-0600
TZNAME:MDT
DTSTART:20270314T090000
END:DAYLIGHT
BEGIN:STANDARD
TZOFFSETFROM:-0600
TZOFFSETTO:-0700
TZNAME:MST
DTSTART:20271107T080000
END:STANDARD
END:VTIMEZONE
BEGIN:VTIMEZONE
TZID:Asia/Bangkok
BEGIN:STANDARD
TZOFFSETFROM:+0700
TZOFFSETTO:+0700
TZNAME:+07
DTSTART:20250101T000000
END:STANDARD
END:VTIMEZONE
BEGIN:VTIMEZONE
TZID:Europe/Prague
BEGIN:DAYLIGHT
TZOFFSETFROM:+0100
TZOFFSETTO:+0200
TZNAME:CEST
DTSTART:20250330T010000
END:DAYLIGHT
BEGIN:STANDARD
TZOFFSETFROM:+0200
TZOFFSETTO:+0100
TZNAME:CET
DTSTART:20251026T010000
END:STANDARD
BEGIN:DAYLIGHT
TZOFFSETFROM:+0100
TZOFFSETTO:+0200
TZNAME:CEST
DTSTART:20260329T010000
END:DAYLIGHT
BEGIN:STANDARD
TZOFFSETFROM:+0200
TZOFFSETTO:+0100
TZNAME:CET
DTSTART:20261025T010000
END:STANDARD
BEGIN:DAYLIGHT
TZOFFSETFROM:+0100
TZOFFSETTO:+0200
TZNAME:CEST
DTSTART:20270328T010000
END:DAYLIGHT
BEGIN:STANDARD
TZOFFSETFROM:+0200
TZOFFSETTO:+0100
TZNAME:CET
DTSTART:20271031T010000
END:STANDARD
END:VTIMEZONE
BEGIN:VTIMEZONE
TZID:America/Bogota
BEGIN:STANDARD
TZOFFSETFROM:-0500
TZOFFSETTO:-0500
TZNAME:-05
DTSTART:20250101T000000
END:STANDARD
END:VTIMEZONE
BEGIN:VTIMEZONE
TZID:America/Sao_Paulo
BEGIN:STANDARD
TZOFFSETFROM:-0300
TZOFFSETTO:-0300
TZNAME:-03
DTSTART:20250101T000000
END:STANDARD
END:VTIMEZONE
BEGIN:VTIMEZONE
TZID:America/Montevideo
BEGIN:STANDARD
TZOFFSETFROM:-0300
TZOFFSETTO:-0300
TZNAME:-03
DTSTART:20250101T000000
END:STANDARD
END:VTIMEZONE
BEGIN:VEVENT
DTSTART;TZID=Europe/Berlin:20260611T110000
DTEND;TZID=Europe/Berlin:20260614T200000
DTSTAMP:20260423T153054
CREATED:20260123T024306Z
LAST-MODIFIED:20260123T024306Z
UID:5175-1781175600-1781467200@420.school
SUMMARY:Mary Jane Berlin
DESCRIPTION:Germany’s premier Cannabis Expo & Festival.  \nStructure:  \n\nB2B Day (Thu June 11): Trade visitors only.\nFestival (Fri-Sun): Consumer expo\, live music\, and food.\nOutdoor ‘Beach’ area and hemp market.\n\nShare this:\n				Share on Bluesky (Opens in new window)\n				Bluesky\n			\n				Share on Reddit (Opens in new window)\n				Reddit\n			\n				Share on Pinterest (Opens in new window)\n				Pinterest\n			\n				Share on Facebook (Opens in new window)\n				Facebook\n			\n				Share on X (Opens in new window)\n				X\n			Like this:Like Loading...
URL:https://420.school/event/mary-jane-berlin/
CATEGORIES:B2B,Events,Expo,Festival
END:VEVENT
BEGIN:VEVENT
DTSTART;TZID=America/New_York:20260617T100000
DTEND;TZID=America/New_York:20260618T170000
DTSTAMP:20260423T153054
CREATED:20260123T013116Z
LAST-MODIFIED:20260123T014107Z
UID:5117-1781690400-1781802000@420.school
SUMMARY:Flower Expo Massachusetts 2026
DESCRIPTION:A B2B event with the soul of a festival. Located in Western Mass\, the Flower Expo connects cultivators and budtenders in an outdoor\, consumption-friendly environment centered on product appreciation and authentic brand storytelling. \nShare this:\n				Share on Bluesky (Opens in new window)\n				Bluesky\n			\n				Share on Reddit (Opens in new window)\n				Reddit\n			\n				Share on Pinterest (Opens in new window)\n				Pinterest\n			\n				Share on Facebook (Opens in new window)\n				Facebook\n			\n				Share on X (Opens in new window)\n				X\n			Like this:Like Loading...
URL:https://420.school/event/flower-expo-massachusetts-2026/
CATEGORIES:B2B,Budtender,Cultivation,Events
END:VEVENT
BEGIN:VEVENT
DTSTART;TZID=America/Chicago:20260626T100000
DTEND;TZID=America/Chicago:20260627T160000
DTSTAMP:20260423T153054
CREATED:20260123T013117Z
LAST-MODIFIED:20260123T014108Z
UID:5118-1782468000-1782576000@420.school
SUMMARY:Lucky Leaf Expo Dallas 2026
DESCRIPTION:Bringing the cannabis industry to Texas\, focusing on hemp\, medical cannabis\, and regulatory reform. This event capitalizes on the massive Texas market potential and the thriving hemp-derived cannabinoid sector in the South. \nShare this:\n				Share on Bluesky (Opens in new window)\n				Bluesky\n			\n				Share on Reddit (Opens in new window)\n				Reddit\n			\n				Share on Pinterest (Opens in new window)\n				Pinterest\n			\n				Share on Facebook (Opens in new window)\n				Facebook\n			\n				Share on X (Opens in new window)\n				X\n			Like this:Like Loading...
URL:https://420.school/event/lucky-leaf-expo-dallas-2026/
CATEGORIES:B2B,Events,Hemp,South
ATTACH;FMTTYPE=image/png:https://420.school/wp-content/uploads/2026/01/LuckyLeafExpo-email-036ad399-kRyudq.png
END:VEVENT
BEGIN:VEVENT
DTSTART;TZID=America/Chicago:20260626T100000
DTEND;TZID=America/Chicago:20260627T170000
DTSTAMP:20260423T153054
CREATED:20260123T013117Z
LAST-MODIFIED:20260123T014109Z
UID:5119-1782468000-1782579600@420.school
SUMMARY:CannaCon Midwest St. Paul 2026
DESCRIPTION:The nation’s leading B2B cultivation and technology expo returns to the Midwest. CannaCon connects growers with the hardware and agricultural technology needed to scale operations in the expanding Minnesota market. \nShare this:\n				Share on Bluesky (Opens in new window)\n				Bluesky\n			\n				Share on Reddit (Opens in new window)\n				Reddit\n			\n				Share on Pinterest (Opens in new window)\n				Pinterest\n			\n				Share on Facebook (Opens in new window)\n				Facebook\n			\n				Share on X (Opens in new window)\n				X\n			Like this:Like Loading...
URL:https://420.school/event/cannacon-midwest-st-paul-2026/
CATEGORIES:B2B,Cultivation,Events,Technology
END:VEVENT
BEGIN:VEVENT
DTSTART;TZID=America/Detroit:20260729T100000
DTEND;TZID=America/Detroit:20260730T170000
DTSTAMP:20260423T153054
CREATED:20260123T013130Z
LAST-MODIFIED:20260123T014121Z
UID:5120-1785319200-1785430800@420.school
SUMMARY:Flower Expo Michigan 2026
DESCRIPTION:The premier B2B cannabis trade show in the Midwest\, offering networking and sampling in Detroit. Designed to bridge the gap between brand executives and frontline retail staff (budtenders) in a consumption-friendly setting. \nShare this:\n				Share on Bluesky (Opens in new window)\n				Bluesky\n			\n				Share on Reddit (Opens in new window)\n				Reddit\n			\n				Share on Pinterest (Opens in new window)\n				Pinterest\n			\n				Share on Facebook (Opens in new window)\n				Facebook\n			\n				Share on X (Opens in new window)\n				X\n			Like this:Like Loading...
URL:https://420.school/event/flower-expo-michigan-2026/
CATEGORIES:B2B,Budtender,Events,Midwest
END:VEVENT
BEGIN:VEVENT
DTSTART;TZID=Europe/Berlin:20260731T110000
DTEND;TZID=Europe/Berlin:20260801T220000
DTSTAMP:20260423T153054
CREATED:20260123T024306Z
LAST-MODIFIED:20260123T024306Z
UID:5176-1785495600-1785621600@420.school
SUMMARY:HamCan 2026
DESCRIPTION:Hamburg’s international cannabis conference.  \nFocus:  \n\nImport/Export: Logistics via the Port of Hamburg.\nSocial Clubs: Regional implementation in Northern Germany.\nCommunity networking.\n\nShare this:\n				Share on Bluesky (Opens in new window)\n				Bluesky\n			\n				Share on Reddit (Opens in new window)\n				Reddit\n			\n				Share on Pinterest (Opens in new window)\n				Pinterest\n			\n				Share on Facebook (Opens in new window)\n				Facebook\n			\n				Share on X (Opens in new window)\n				X\n			Like this:Like Loading...
URL:https://420.school/event/hamcan-2026/
CATEGORIES:Conference,Events,Expo,Regional
END:VEVENT
BEGIN:VEVENT
DTSTART;TZID=America/New_York:20260807T100000
DTEND;TZID=America/New_York:20260808T160000
DTSTAMP:20260423T153054
CREATED:20260123T013131Z
LAST-MODIFIED:20260123T014121Z
UID:5121-1786096800-1786204800@420.school
SUMMARY:Lucky Leaf Expo Philadelphia 2026
DESCRIPTION:A major mid-Atlantic expo focusing on the operational maturity of the Pennsylvania market. This event serves as a central hub for the tri-state area’s B2B ecosystem\, including medical providers\, growers\, and retailers. \nShare this:\n				Share on Bluesky (Opens in new window)\n				Bluesky\n			\n				Share on Reddit (Opens in new window)\n				Reddit\n			\n				Share on Pinterest (Opens in new window)\n				Pinterest\n			\n				Share on Facebook (Opens in new window)\n				Facebook\n			\n				Share on X (Opens in new window)\n				X\n			Like this:Like Loading...
URL:https://420.school/event/lucky-leaf-expo-philadelphia-2026/
CATEGORIES:B2B,East Coast,Events,Medical
ATTACH;FMTTYPE=image/png:https://420.school/wp-content/uploads/2026/01/LuckyLeafExpo-email-036ad399-kRyudq.png
END:VEVENT
BEGIN:VEVENT
DTSTART;TZID=Australia/Melbourne:20260811T090000
DTEND;TZID=Australia/Melbourne:20260812T170000
DTSTAMP:20260423T153054
CREATED:20260123T024307Z
LAST-MODIFIED:20260123T024307Z
UID:5177-1786438800-1786554000@420.school
SUMMARY:ACannabis
DESCRIPTION:Australia’s premier medicinal cannabis conference hosted by the MCIA.  \nTopics:  \n\nPatient access and reimbursement.\nClinical research updates.\nCompliance and manufacturing standards.\n\nShare this:\n				Share on Bluesky (Opens in new window)\n				Bluesky\n			\n				Share on Reddit (Opens in new window)\n				Reddit\n			\n				Share on Pinterest (Opens in new window)\n				Pinterest\n			\n				Share on Facebook (Opens in new window)\n				Facebook\n			\n				Share on X (Opens in new window)\n				X\n			Like this:Like Loading...
URL:https://420.school/event/acannabis/
CATEGORIES:Conference,Events,Medical,Science
END:VEVENT
BEGIN:VEVENT
DTSTART;TZID=America/Los_Angeles:20260815T120000
DTEND;TZID=America/Los_Angeles:20260816T200000
DTSTAMP:20260423T153054
CREATED:20260123T013131Z
LAST-MODIFIED:20260218T004929Z
UID:5122-1786795200-1786910400@420.school
SUMMARY:Emerald Cup 2026
DESCRIPTION:Emerald Cup\n\n\nThe 2026 Emerald Cup is set to return to the Sonoma County Fairgrounds in Santa Rosa\, California\, on Saturday\, August 15\, and Sunday\, August 16\, 2026. Often referred to as the “Oscars of Organic Cannabis\,” this year’s event marks a continued celebration of sun-grown\, sustainable cultivation and the craft expertise of California’s legendary Emerald Triangle. The two-day festival is expected to draw over 30\,000 attendees\, offering a vibrant mix of live music across multiple stages\, educational workshops\, and a massive vendor village featuring top-tier craft brands. \nBeyond the festivities\, the heart of the event remains its prestigious competition\, which honors excellence across categories like outdoor flower\, concentrates\, edibles\, and topicals. The 2026 edition continues to emphasize terroir and eco-friendly farming practices\, validating the dedication of small-batch cultivators and industry veterans alike. For professionals and enthusiasts\, it serves as a “spiritual homecoming” and a unique opportunity to connect directly with the farmers and pioneers who define modern cannabis culture. \nQuick Event Facts\n\n\nDates: August 15–16\, 2026 \n\n\nLocation: Sonoma County Fairgrounds\, Santa Rosa\, CA \n\n\nKey Highlights: Regenerative agriculture focus\, live music\, vendor marketplace\, and the 2026 Awards Ceremony. \n\n\nEstimated Attendance: 30\,000+ \n\n\n\n\nShare this:\n				Share on Bluesky (Opens in new window)\n				Bluesky\n			\n				Share on Reddit (Opens in new window)\n				Reddit\n			\n				Share on Pinterest (Opens in new window)\n				Pinterest\n			\n				Share on Facebook (Opens in new window)\n				Facebook\n			\n				Share on X (Opens in new window)\n				X\n			Like this:Like Loading...
URL:https://420.school/event/emerald-cup-2026/
LOCATION:Sonoma County Fairgrounds\, 1350 Bennett Valley Rd\, Santa Rosa\, California\, 95404\, United States
CATEGORIES:Competition,Culture,Events,Organic
END:VEVENT
BEGIN:VEVENT
DTSTART;TZID=America/Denver:20260828T090000
DTEND;TZID=America/Denver:20260830T170000
DTSTAMP:20260423T153054
CREATED:20260123T013132Z
LAST-MODIFIED:20260123T014124Z
UID:5123-1787907600-1788109200@420.school
SUMMARY:Cannabis Science Conference 2026
DESCRIPTION:The industry’s premier science event focusing on analytical science\, medical cannabis\, and cultivation. Hosted in Bozeman\, MT\, this event offers deep dives into living soil\, testing standards\, and agricultural R&D. \nShare this:\n				Share on Bluesky (Opens in new window)\n				Bluesky\n			\n				Share on Reddit (Opens in new window)\n				Reddit\n			\n				Share on Pinterest (Opens in new window)\n				Pinterest\n			\n				Share on Facebook (Opens in new window)\n				Facebook\n			\n				Share on X (Opens in new window)\n				X\n			Like this:Like Loading...
URL:https://420.school/event/cannabis-science-conference-2026/
CATEGORIES:Cultivation,Events,Research,Science
END:VEVENT
BEGIN:VEVENT
DTSTART;TZID=America/New_York:20260828T100000
DTEND;TZID=America/New_York:20260829T160000
DTSTAMP:20260423T153054
CREATED:20260123T013132Z
LAST-MODIFIED:20260123T014125Z
UID:5124-1787911200-1788019200@420.school
SUMMARY:Lucky Leaf Expo Richmond 2026
DESCRIPTION:Capitalizing on Virginia’s evolving market\, connecting southern operators with suppliers. As Virginia navigates its adult-use framework\, this expo provides a critical meeting place for policy makers and entrepreneurs. \nShare this:\n				Share on Bluesky (Opens in new window)\n				Bluesky\n			\n				Share on Reddit (Opens in new window)\n				Reddit\n			\n				Share on Pinterest (Opens in new window)\n				Pinterest\n			\n				Share on Facebook (Opens in new window)\n				Facebook\n			\n				Share on X (Opens in new window)\n				X\n			Like this:Like Loading...
URL:https://420.school/event/lucky-leaf-expo-richmond-2026/
CATEGORIES:B2B,Emerging,Events,South
ATTACH;FMTTYPE=image/png:https://420.school/wp-content/uploads/2026/01/LuckyLeafExpo-email-036ad399-kRyudq.png
END:VEVENT
BEGIN:VEVENT
DTSTART;TZID=America/Chicago:20260915T100000
DTEND;TZID=America/Chicago:20260916T170000
DTSTAMP:20260423T153054
CREATED:20260123T013145Z
LAST-MODIFIED:20260123T014136Z
UID:5125-1789466400-1789578000@420.school
SUMMARY:Flower Expo Illinois 2026
DESCRIPTION:Connecting brands and buyers in the Windy City with a focus on dispensary leadership and budtenders. Held at The Geraghty\, this event offers a highly curated\, consumption-friendly environment for Chicago’s elite cannabis community. \nShare this:\n				Share on Bluesky (Opens in new window)\n				Bluesky\n			\n				Share on Reddit (Opens in new window)\n				Reddit\n			\n				Share on Pinterest (Opens in new window)\n				Pinterest\n			\n				Share on Facebook (Opens in new window)\n				Facebook\n			\n				Share on X (Opens in new window)\n				X\n			Like this:Like Loading...
URL:https://420.school/event/flower-expo-illinois-2026/
CATEGORIES:B2B,Events,Midwest,Retail
END:VEVENT
BEGIN:VEVENT
DTSTART;TZID=America/New_York:20260918T100000
DTEND;TZID=America/New_York:20260919T160000
DTSTAMP:20260423T153054
CREATED:20260123T013146Z
LAST-MODIFIED:20260123T014136Z
UID:5126-1789725600-1789833600@420.school
SUMMARY:NECANN New Jersey 2026
DESCRIPTION:The essential gathering for the Mid-Atlantic cannabis sector\, diving into regulatory and operational realities. As NJ’s market scales\, NECANN provides the platform for long-term business sustainability and networking. \nShare this:\n				Share on Bluesky (Opens in new window)\n				Bluesky\n			\n				Share on Reddit (Opens in new window)\n				Reddit\n			\n				Share on Pinterest (Opens in new window)\n				Pinterest\n			\n				Share on Facebook (Opens in new window)\n				Facebook\n			\n				Share on X (Opens in new window)\n				X\n			Like this:Like Loading...
URL:https://420.school/event/necann-new-jersey-2026/
CATEGORIES:B2B,East Coast,Events,Regulatory
ATTACH;FMTTYPE=image/png:https://420.school/wp-content/uploads/2026/01/NECANN-horozontal-white-z3YABx.png
END:VEVENT
BEGIN:VEVENT
DTSTART;TZID=Asia/Bangkok:20260923T090000
DTEND;TZID=Asia/Bangkok:20260924T180000
DTSTAMP:20260423T153054
CREATED:20260123T024320Z
LAST-MODIFIED:20260123T024320Z
UID:5178-1790154000-1790272800@420.school
SUMMARY:Agential Cannabis
DESCRIPTION:The Asia-Pacific’s leading medicinal cannabis B2B expo.  \nMission:  \n\nConnecting Asian growers with global GMP standards.\nShowcasing regional medical innovations.\nNavigating Thai and Asian regulatory landscapes.\n\nShare this:\n				Share on Bluesky (Opens in new window)\n				Bluesky\n			\n				Share on Reddit (Opens in new window)\n				Reddit\n			\n				Share on Pinterest (Opens in new window)\n				Pinterest\n			\n				Share on Facebook (Opens in new window)\n				Facebook\n			\n				Share on X (Opens in new window)\n				X\n			Like this:Like Loading...
URL:https://420.school/event/agential-cannabis/
CATEGORIES:B2B,Events,Expo,Medical
END:VEVENT
BEGIN:VEVENT
DTSTART;TZID=America/New_York:20260925T100000
DTEND;TZID=America/New_York:20260926T160000
DTSTAMP:20260423T153054
CREATED:20260123T013146Z
LAST-MODIFIED:20260123T014137Z
UID:5127-1790330400-1790438400@420.school
SUMMARY:NECANN Rhode Island 2026
DESCRIPTION:A focused event for the tight-knit Rhode Island medical and recreational community. NECANN RI serves the specific needs of the state’s vertically integrated operators and independent dispensaries. \nShare this:\n				Share on Bluesky (Opens in new window)\n				Bluesky\n			\n				Share on Reddit (Opens in new window)\n				Reddit\n			\n				Share on Pinterest (Opens in new window)\n				Pinterest\n			\n				Share on Facebook (Opens in new window)\n				Facebook\n			\n				Share on X (Opens in new window)\n				X\n			Like this:Like Loading...
URL:https://420.school/event/necann-rhode-island-2026/
CATEGORIES:B2B,Events,Local,New England
ATTACH;FMTTYPE=image/png:https://420.school/wp-content/uploads/2026/01/NECANN-horozontal-white-z3YABx.png
END:VEVENT
BEGIN:VEVENT
DTSTART;TZID=America/Chicago:20261013T090000
DTEND;TZID=America/Chicago:20261015T170000
DTSTAMP:20260423T153054
CREATED:20260123T013147Z
LAST-MODIFIED:20260123T014139Z
UID:5128-1791882000-1792083600@420.school
SUMMARY:MJ Unpacked Kansas City 2026
DESCRIPTION:Continuing the curated experience for executives and investors in the heart of the Midwest. This event brings the high-level deal-making environment of MJ Unpacked to the expanding Missouri market. \nShare this:\n				Share on Bluesky (Opens in new window)\n				Bluesky\n			\n				Share on Reddit (Opens in new window)\n				Reddit\n			\n				Share on Pinterest (Opens in new window)\n				Pinterest\n			\n				Share on Facebook (Opens in new window)\n				Facebook\n			\n				Share on X (Opens in new window)\n				X\n			Like this:Like Loading...
URL:https://420.school/event/mj-unpacked-kansas-city-2026/
CATEGORIES:Events,Executive,Investment,Midwest
END:VEVENT
BEGIN:VEVENT
DTSTART;TZID=Europe/Prague:20261106T110000
DTEND;TZID=Europe/Prague:20261108T180000
DTSTAMP:20260423T153054
CREATED:20260123T024320Z
LAST-MODIFIED:20260123T024320Z
UID:5179-1793962800-1794160800@420.school
SUMMARY:Cannafest Prague
DESCRIPTION:One of the world’s largest cannabis fairs\, serving Central and Eastern Europe.  \nFeatures:  \n\nExtensive home-grow and seed exhibits.\nCannafest Cinema and Vapo Lounge.\nProfessional conference on medical applications.\n\nShare this:\n				Share on Bluesky (Opens in new window)\n				Bluesky\n			\n				Share on Reddit (Opens in new window)\n				Reddit\n			\n				Share on Pinterest (Opens in new window)\n				Pinterest\n			\n				Share on Facebook (Opens in new window)\n				Facebook\n			\n				Share on X (Opens in new window)\n				X\n			Like this:Like Loading...
URL:https://420.school/event/cannafest-prague/
CATEGORIES:B2C,Cultivation,Events,Expo
END:VEVENT
BEGIN:VEVENT
DTSTART;TZID=America/Bogota:20261120T090000
DTEND;TZID=America/Bogota:20261122T180000
DTSTAMP:20260423T153054
CREATED:20260123T024321Z
LAST-MODIFIED:20260123T024321Z
UID:5181-1795165200-1795370400@420.school
SUMMARY:Expomedeweed
DESCRIPTION:The technical heart of the Colombian industry.  \nFocus:  \n\nAgronomy & Genetics: Tropical cultivation techniques.\nExport Logistics: Serving global medical markets.\nScientific research symposiums.\n\nShare this:\n				Share on Bluesky (Opens in new window)\n				Bluesky\n			\n				Share on Reddit (Opens in new window)\n				Reddit\n			\n				Share on Pinterest (Opens in new window)\n				Pinterest\n			\n				Share on Facebook (Opens in new window)\n				Facebook\n			\n				Share on X (Opens in new window)\n				X\n			Like this:Like Loading...
URL:https://420.school/event/expomedeweed/
CATEGORIES:Events,Expo,Export,Science
END:VEVENT
BEGIN:VEVENT
DTSTART;TZID=America/Sao_Paulo:20261120T110000
DTEND;TZID=America/Sao_Paulo:20261122T210000
DTSTAMP:20260423T153054
CREATED:20260123T024321Z
LAST-MODIFIED:20260123T024321Z
UID:5180-1795172400-1795381200@420.school
SUMMARY:ExpoCannabis Brasil
DESCRIPTION:Latin America’s largest cannabis gathering.  \nHighlights:  \n\nSocial Impact: ‘Solidarity Tickets’ for food donations.\nMedical & Industrial: Forums on legislation and hemp.\nMassive consumer attendance (45\,000+).\n\nShare this:\n				Share on Bluesky (Opens in new window)\n				Bluesky\n			\n				Share on Reddit (Opens in new window)\n				Reddit\n			\n				Share on Pinterest (Opens in new window)\n				Pinterest\n			\n				Share on Facebook (Opens in new window)\n				Facebook\n			\n				Share on X (Opens in new window)\n				X\n			Like this:Like Loading...
URL:https://420.school/event/expocannabis-brasil/
CATEGORIES:B2C,Events,Expo,Festival
END:VEVENT
BEGIN:VEVENT
DTSTART;TZID=America/Los_Angeles:20261201T090000
DTEND;TZID=America/Los_Angeles:20261204T170000
DTSTAMP:20260423T153054
CREATED:20260123T013147Z
LAST-MODIFIED:20260123T014139Z
UID:5129-1796115600-1796403600@420.school
SUMMARY:MJBizCon 2026
DESCRIPTION:The largest cannabis business conference in the world\, setting the global agenda for 2027. MJBizCon Las Vegas brings together the entire global supply chain\, from cultivation tech to investment banking\, for a week of high-impact networking. \nShare this:\n				Share on Bluesky (Opens in new window)\n				Bluesky\n			\n				Share on Reddit (Opens in new window)\n				Reddit\n			\n				Share on Pinterest (Opens in new window)\n				Pinterest\n			\n				Share on Facebook (Opens in new window)\n				Facebook\n			\n				Share on X (Opens in new window)\n				X\n			Like this:Like Loading...
URL:https://420.school/event/mjbizcon-2026/
LOCATION:Las Vegas Convention Center\, 3150 Paradise Rd\, Las Vegas\, Nevada\, 89109\, United States
CATEGORIES:B2B,Events,Global,Trade Show
ATTACH;FMTTYPE=image/png:https://420.school/wp-content/uploads/2026/01/MJBizCon_2025_Logo-N73H9N.png
END:VEVENT
BEGIN:VEVENT
DTSTART;TZID=America/Montevideo:20261205T130000
DTEND;TZID=America/Montevideo:20261206T230000
DTSTAMP:20260423T153054
CREATED:20260123T024322Z
LAST-MODIFIED:20260123T024322Z
UID:5182-1796475600-1796598000@420.school
SUMMARY:ExpoCannabis Uruguay
DESCRIPTION:A celebration of the world’s first federally legalized market.  \nExperience:  \n\nCannabis Clubs: Insights into the social club model.\nState Regulation: Understanding the IRCCA framework.\nOutdoor festival atmosphere.\n\nShare this:\n				Share on Bluesky (Opens in new window)\n				Bluesky\n			\n				Share on Reddit (Opens in new window)\n				Reddit\n			\n				Share on Pinterest (Opens in new window)\n				Pinterest\n			\n				Share on Facebook (Opens in new window)\n				Facebook\n			\n				Share on X (Opens in new window)\n				X\n			Like this:Like Loading...
URL:https://420.school/event/expocannabis-uruguay/
CATEGORIES:Culture,Events,Festival,Policy
END:VEVENT
END:VCALENDAR