BEGIN:VCALENDAR
VERSION:2.0
PRODID:-//420 School - ECPv6.15.20//NONSGML v1.0//EN
CALSCALE:GREGORIAN
METHOD:PUBLISH
X-WR-CALNAME:420 School
X-ORIGINAL-URL:https://420.school
X-WR-CALDESC:Events for 420 School
REFRESH-INTERVAL;VALUE=DURATION:PT1H
X-Robots-Tag:noindex
X-PUBLISHED-TTL:PT1H
BEGIN:VTIMEZONE
TZID:America/Chicago
BEGIN:DAYLIGHT
TZOFFSETFROM:-0600
TZOFFSETTO:-0500
TZNAME:CDT
DTSTART:20250309T080000
END:DAYLIGHT
BEGIN:STANDARD
TZOFFSETFROM:-0500
TZOFFSETTO:-0600
TZNAME:CST
DTSTART:20251102T070000
END:STANDARD
BEGIN:DAYLIGHT
TZOFFSETFROM:-0600
TZOFFSETTO:-0500
TZNAME:CDT
DTSTART:20260308T080000
END:DAYLIGHT
BEGIN:STANDARD
TZOFFSETFROM:-0500
TZOFFSETTO:-0600
TZNAME:CST
DTSTART:20261101T070000
END:STANDARD
BEGIN:DAYLIGHT
TZOFFSETFROM:-0600
TZOFFSETTO:-0500
TZNAME:CDT
DTSTART:20270314T080000
END:DAYLIGHT
BEGIN:STANDARD
TZOFFSETFROM:-0500
TZOFFSETTO:-0600
TZNAME:CST
DTSTART:20271107T070000
END:STANDARD
END:VTIMEZONE
BEGIN:VEVENT
DTSTART;TZID=America/Chicago:20260505T083000
DTEND;TZID=America/Chicago:20260507T170000
DTSTAMP:20260423T121049
CREATED:20260123T013101Z
LAST-MODIFIED:20260123T014052Z
UID:5113-1777969800-1778173200@420.school
SUMMARY:Benzinga Cannabis Capital Conference Chicago 2026
DESCRIPTION:The premier venue for capital formation in the cannabis sector. Institutional investors\, family offices\, and MSO executives converge in Chicago to discuss market valuations\, M&A\, and federal policy impacts on the industry’s bottom line. \nShare this:\n				Share on Bluesky (Opens in new window)\n				Bluesky\n			\n				Share on Reddit (Opens in new window)\n				Reddit\n			\n				Share on Pinterest (Opens in new window)\n				Pinterest\n			\n				Share on Facebook (Opens in new window)\n				Facebook\n			\n				Share on X (Opens in new window)\n				X\n			Like this:Like Loading...
URL:https://420.school/event/benzinga-cannabis-capital-conference-chicago-2026/
CATEGORIES:Events,Finance,Investment,MSO
END:VEVENT
END:VCALENDAR