BEGIN:VCALENDAR
VERSION:2.0
PRODID:-//420 School - ECPv6.15.20//NONSGML v1.0//EN
CALSCALE:GREGORIAN
METHOD:PUBLISH
X-WR-CALNAME:420 School
X-ORIGINAL-URL:https://420.school
X-WR-CALDESC:Events for 420 School
REFRESH-INTERVAL;VALUE=DURATION:PT1H
X-Robots-Tag:noindex
X-PUBLISHED-TTL:PT1H
BEGIN:VTIMEZONE
TZID:America/New_York
BEGIN:DAYLIGHT
TZOFFSETFROM:-0500
TZOFFSETTO:-0400
TZNAME:EDT
DTSTART:20250309T070000
END:DAYLIGHT
BEGIN:STANDARD
TZOFFSETFROM:-0400
TZOFFSETTO:-0500
TZNAME:EST
DTSTART:20251102T060000
END:STANDARD
BEGIN:DAYLIGHT
TZOFFSETFROM:-0500
TZOFFSETTO:-0400
TZNAME:EDT
DTSTART:20260308T070000
END:DAYLIGHT
BEGIN:STANDARD
TZOFFSETFROM:-0400
TZOFFSETTO:-0500
TZNAME:EST
DTSTART:20261101T060000
END:STANDARD
BEGIN:DAYLIGHT
TZOFFSETFROM:-0500
TZOFFSETTO:-0400
TZNAME:EDT
DTSTART:20270314T070000
END:DAYLIGHT
BEGIN:STANDARD
TZOFFSETFROM:-0400
TZOFFSETTO:-0500
TZNAME:EST
DTSTART:20271107T060000
END:STANDARD
END:VTIMEZONE
BEGIN:VTIMEZONE
TZID:Europe/Madrid
BEGIN:DAYLIGHT
TZOFFSETFROM:+0100
TZOFFSETTO:+0200
TZNAME:CEST
DTSTART:20250330T010000
END:DAYLIGHT
BEGIN:STANDARD
TZOFFSETFROM:+0200
TZOFFSETTO:+0100
TZNAME:CET
DTSTART:20251026T010000
END:STANDARD
BEGIN:DAYLIGHT
TZOFFSETFROM:+0100
TZOFFSETTO:+0200
TZNAME:CEST
DTSTART:20260329T010000
END:DAYLIGHT
BEGIN:STANDARD
TZOFFSETFROM:+0200
TZOFFSETTO:+0100
TZNAME:CET
DTSTART:20261025T010000
END:STANDARD
BEGIN:DAYLIGHT
TZOFFSETFROM:+0100
TZOFFSETTO:+0200
TZNAME:CEST
DTSTART:20270328T010000
END:DAYLIGHT
BEGIN:STANDARD
TZOFFSETFROM:+0200
TZOFFSETTO:+0100
TZNAME:CET
DTSTART:20271031T010000
END:STANDARD
END:VTIMEZONE
BEGIN:VEVENT
DTSTART;TZID=America/New_York:20260417T000000
DTEND;TZID=America/New_York:20260418T000000
DTSTAMP:20260423T151000
CREATED:20260125T181217Z
LAST-MODIFIED:20260201T235257Z
UID:5352-1776384000-1776470400@420.school
SUMMARY:SweetWater 420 Fest
DESCRIPTION:Atlanta’s SweetWater 420 Fest returns April 17–18\, 2026\, moving to Shirley Clarke Franklin Park for its 21st year. Headliners Umphrey’s McGee\, Thievery Corporation\, and Chromeo lead an eclectic lineup. The event emphasizes affordability with reduced ticket prices and accessibility. \nShare this:\n				Share on Bluesky (Opens in new window)\n				Bluesky\n			\n				Share on Reddit (Opens in new window)\n				Reddit\n			\n				Share on Pinterest (Opens in new window)\n				Pinterest\n			\n				Share on Facebook (Opens in new window)\n				Facebook\n			\n				Share on X (Opens in new window)\n				X\n			Like this:Like Loading...
URL:https://420.school/event/sweetwater-420-fest/
LOCATION:Shirley Clarke Franklin Park\, 1660 Johnson Rd. NW\, \, GA 30318\, Atlanta\, Georgia\, 30318\, United States
CATEGORIES:Craft,Events,Festival,Music
ATTACH;FMTTYPE=image/png:https://420.school/wp-content/uploads/2026/01/SWB-420Fest-_420Fest2026-Logo.png
END:VEVENT
BEGIN:VEVENT
DTSTART;TZID=Europe/Madrid:20260417T110000
DTEND;TZID=Europe/Madrid:20260419T200000
DTSTAMP:20260423T151000
CREATED:20260123T024246Z
LAST-MODIFIED:20260123T024246Z
UID:5167-1776423600-1776628800@420.school
SUMMARY:Spannabis Bilbao 2026
DESCRIPTION:The XXIII edition of the world’s most famous cannabis fair makes a historic move to Bilbao.  \nFeatures:  \n\nWorld Cannabis Conference: Scientific and political panels.\nSpannabis Champions Cup: The gold standard for genetics.\n300+ International Exhibitors in a new 150\,000 m2 venue.\n\nShare this:\n				Share on Bluesky (Opens in new window)\n				Bluesky\n			\n				Share on Reddit (Opens in new window)\n				Reddit\n			\n				Share on Pinterest (Opens in new window)\n				Pinterest\n			\n				Share on Facebook (Opens in new window)\n				Facebook\n			\n				Share on X (Opens in new window)\n				X\n			Like this:Like Loading...
URL:https://420.school/event/spannabis-bilbao-2026/
LOCATION:Georgia
CATEGORIES:Conference,Events,Expo,Festival
END:VEVENT
END:VCALENDAR