BEGIN:VCALENDAR
VERSION:2.0
PRODID:-//420 School - ECPv6.15.20//NONSGML v1.0//EN
CALSCALE:GREGORIAN
METHOD:PUBLISH
X-ORIGINAL-URL:https://420.school
X-WR-CALDESC:Events for 420 School
REFRESH-INTERVAL;VALUE=DURATION:PT1H
X-Robots-Tag:noindex
X-PUBLISHED-TTL:PT1H
BEGIN:VTIMEZONE
TZID:America/New_York
BEGIN:DAYLIGHT
TZOFFSETFROM:-0500
TZOFFSETTO:-0400
TZNAME:EDT
DTSTART:20250309T070000
END:DAYLIGHT
BEGIN:STANDARD
TZOFFSETFROM:-0400
TZOFFSETTO:-0500
TZNAME:EST
DTSTART:20251102T060000
END:STANDARD
BEGIN:DAYLIGHT
TZOFFSETFROM:-0500
TZOFFSETTO:-0400
TZNAME:EDT
DTSTART:20260308T070000
END:DAYLIGHT
BEGIN:STANDARD
TZOFFSETFROM:-0400
TZOFFSETTO:-0500
TZNAME:EST
DTSTART:20261101T060000
END:STANDARD
BEGIN:DAYLIGHT
TZOFFSETFROM:-0500
TZOFFSETTO:-0400
TZNAME:EDT
DTSTART:20270314T070000
END:DAYLIGHT
BEGIN:STANDARD
TZOFFSETFROM:-0400
TZOFFSETTO:-0500
TZNAME:EST
DTSTART:20271107T060000
END:STANDARD
END:VTIMEZONE
BEGIN:VTIMEZONE
TZID:America/Los_Angeles
BEGIN:DAYLIGHT
TZOFFSETFROM:-0800
TZOFFSETTO:-0700
TZNAME:PDT
DTSTART:20250309T100000
END:DAYLIGHT
BEGIN:STANDARD
TZOFFSETFROM:-0700
TZOFFSETTO:-0800
TZNAME:PST
DTSTART:20251102T090000
END:STANDARD
BEGIN:DAYLIGHT
TZOFFSETFROM:-0800
TZOFFSETTO:-0700
TZNAME:PDT
DTSTART:20260308T100000
END:DAYLIGHT
BEGIN:STANDARD
TZOFFSETFROM:-0700
TZOFFSETTO:-0800
TZNAME:PST
DTSTART:20261101T090000
END:STANDARD
BEGIN:DAYLIGHT
TZOFFSETFROM:-0800
TZOFFSETTO:-0700
TZNAME:PDT
DTSTART:20270314T100000
END:DAYLIGHT
BEGIN:STANDARD
TZOFFSETFROM:-0700
TZOFFSETTO:-0800
TZNAME:PST
DTSTART:20271107T090000
END:STANDARD
END:VTIMEZONE
BEGIN:VTIMEZONE
TZID:Europe/Berlin
BEGIN:DAYLIGHT
TZOFFSETFROM:+0100
TZOFFSETTO:+0200
TZNAME:CEST
DTSTART:20250330T010000
END:DAYLIGHT
BEGIN:STANDARD
TZOFFSETFROM:+0200
TZOFFSETTO:+0100
TZNAME:CET
DTSTART:20251026T010000
END:STANDARD
BEGIN:DAYLIGHT
TZOFFSETFROM:+0100
TZOFFSETTO:+0200
TZNAME:CEST
DTSTART:20260329T010000
END:DAYLIGHT
BEGIN:STANDARD
TZOFFSETFROM:+0200
TZOFFSETTO:+0100
TZNAME:CET
DTSTART:20261025T010000
END:STANDARD
BEGIN:DAYLIGHT
TZOFFSETFROM:+0100
TZOFFSETTO:+0200
TZNAME:CEST
DTSTART:20270328T010000
END:DAYLIGHT
BEGIN:STANDARD
TZOFFSETFROM:+0200
TZOFFSETTO:+0100
TZNAME:CET
DTSTART:20271031T010000
END:STANDARD
END:VTIMEZONE
BEGIN:VTIMEZONE
TZID:America/Chicago
BEGIN:DAYLIGHT
TZOFFSETFROM:-0600
TZOFFSETTO:-0500
TZNAME:CDT
DTSTART:20250309T080000
END:DAYLIGHT
BEGIN:STANDARD
TZOFFSETFROM:-0500
TZOFFSETTO:-0600
TZNAME:CST
DTSTART:20251102T070000
END:STANDARD
BEGIN:DAYLIGHT
TZOFFSETFROM:-0600
TZOFFSETTO:-0500
TZNAME:CDT
DTSTART:20260308T080000
END:DAYLIGHT
BEGIN:STANDARD
TZOFFSETFROM:-0500
TZOFFSETTO:-0600
TZNAME:CST
DTSTART:20261101T070000
END:STANDARD
BEGIN:DAYLIGHT
TZOFFSETFROM:-0600
TZOFFSETTO:-0500
TZNAME:CDT
DTSTART:20270314T080000
END:DAYLIGHT
BEGIN:STANDARD
TZOFFSETFROM:-0500
TZOFFSETTO:-0600
TZNAME:CST
DTSTART:20271107T070000
END:STANDARD
END:VTIMEZONE
BEGIN:VTIMEZONE
TZID:Europe/Paris
BEGIN:DAYLIGHT
TZOFFSETFROM:+0100
TZOFFSETTO:+0200
TZNAME:CEST
DTSTART:20250330T010000
END:DAYLIGHT
BEGIN:STANDARD
TZOFFSETFROM:+0200
TZOFFSETTO:+0100
TZNAME:CET
DTSTART:20251026T010000
END:STANDARD
BEGIN:DAYLIGHT
TZOFFSETFROM:+0100
TZOFFSETTO:+0200
TZNAME:CEST
DTSTART:20260329T010000
END:DAYLIGHT
BEGIN:STANDARD
TZOFFSETFROM:+0200
TZOFFSETTO:+0100
TZNAME:CET
DTSTART:20261025T010000
END:STANDARD
BEGIN:DAYLIGHT
TZOFFSETFROM:+0100
TZOFFSETTO:+0200
TZNAME:CEST
DTSTART:20270328T010000
END:DAYLIGHT
BEGIN:STANDARD
TZOFFSETFROM:+0200
TZOFFSETTO:+0100
TZNAME:CET
DTSTART:20271031T010000
END:STANDARD
END:VTIMEZONE
BEGIN:VTIMEZONE
TZID:America/Vancouver
BEGIN:DAYLIGHT
TZOFFSETFROM:-0800
TZOFFSETTO:-0700
TZNAME:PDT
DTSTART:20250309T100000
END:DAYLIGHT
BEGIN:STANDARD
TZOFFSETFROM:-0700
TZOFFSETTO:-0800
TZNAME:PST
DTSTART:20251102T090000
END:STANDARD
BEGIN:DAYLIGHT
TZOFFSETFROM:-0800
TZOFFSETTO:-0700
TZNAME:PDT
DTSTART:20260308T100000
END:DAYLIGHT
BEGIN:STANDARD
TZOFFSETFROM:-0700
TZOFFSETTO:-0800
TZNAME:PST
DTSTART:20261101T090000
END:STANDARD
BEGIN:DAYLIGHT
TZOFFSETFROM:-0800
TZOFFSETTO:-0700
TZNAME:PDT
DTSTART:20270314T100000
END:DAYLIGHT
BEGIN:STANDARD
TZOFFSETFROM:-0700
TZOFFSETTO:-0800
TZNAME:PST
DTSTART:20271107T090000
END:STANDARD
END:VTIMEZONE
BEGIN:VEVENT
DTSTART;TZID=America/New_York:20260420T000000
DTEND;TZID=America/New_York:20260420T000000
DTSTAMP:20260423T134934
CREATED:20260125T181223Z
LAST-MODIFIED:20260125T181223Z
UID:5357-1776643200-1776643200@420.school
SUMMARY:Business of Cannabis: NY Summit
DESCRIPTION:A critical gathering for leadership teams focusing on New York’s retail growth and investment strategies. [cite: 77] \nShare this:\n				Share on Bluesky (Opens in new window)\n				Bluesky\n			\n				Share on Reddit (Opens in new window)\n				Reddit\n			\n				Share on Pinterest (Opens in new window)\n				Pinterest\n			\n				Share on Facebook (Opens in new window)\n				Facebook\n			\n				Share on X (Opens in new window)\n				X\n			Like this:Like Loading...
URL:https://420.school/event/business-of-cannabis-ny-summit/
CATEGORIES:B2B,Events,Investment,Summit
END:VEVENT
BEGIN:VEVENT
DTSTART;TZID=America/New_York:20260417T100000
DTEND;TZID=America/New_York:20260418T170000
DTSTAMP:20260423T134934
CREATED:20260123T013052Z
LAST-MODIFIED:20260123T014047Z
UID:5109-1776420000-1776531600@420.school
SUMMARY:NECANN Pennsylvania 2026
DESCRIPTION:The Pennsylvania Cannabis Convention is the state’s largest gathering of cannabis professionals\, focusing on the developing medical and adult-use markets. As PA moves toward broader legalization\, this event acts as the primary forum for policy advocacy. \nShare this:\n				Share on Bluesky (Opens in new window)\n				Bluesky\n			\n				Share on Reddit (Opens in new window)\n				Reddit\n			\n				Share on Pinterest (Opens in new window)\n				Pinterest\n			\n				Share on Facebook (Opens in new window)\n				Facebook\n			\n				Share on X (Opens in new window)\n				X\n			Like this:Like Loading...
URL:https://420.school/event/necann-pennsylvania-2026/
CATEGORIES:B2B,East Coast,Events,Policy
ATTACH;FMTTYPE=image/png:https://420.school/wp-content/uploads/2026/01/NECANN-horozontal-white-z3YABx.png
END:VEVENT
BEGIN:VEVENT
DTSTART;TZID=America/Los_Angeles:20260414T000000
DTEND;TZID=America/Los_Angeles:20260420T000000
DTSTAMP:20260423T134934
CREATED:20260125T181216Z
LAST-MODIFIED:20260203T230818Z
UID:5351-1776124800-1776643200@420.school
SUMMARY:SF Space Walk 2026
DESCRIPTION:The New Model: Running from April 14–20\, SF Space Walk consists of “drop parties” at various lounges\, introducing consumers to specific growers like Sense\, Snowtill\, and Sunset Connect.\nArtistic Integration: A 22-day graphic art exhibition titled “Get to the Bag” at Mirus Gallery elevates cannabis packaging to fine art.\nHippie Hill Update: Official 4/20 festivities at Hippie Hill were canceled due to budget deficits\, replaced by a non-cannabis sports event called “Peace\, Love and Volo Field Day”.\n\nShare this:\n				Share on Bluesky (Opens in new window)\n				Bluesky\n			\n				Share on Reddit (Opens in new window)\n				Reddit\n			\n				Share on Pinterest (Opens in new window)\n				Pinterest\n			\n				Share on Facebook (Opens in new window)\n				Facebook\n			\n				Share on X (Opens in new window)\n				X\n			Like this:Like Loading...
URL:https://420.school/event/sf-space-walk-2026/
CATEGORIES:B2B,Culture,Events,Retail
ATTACH;FMTTYPE=image/png:https://420.school/wp-content/uploads/2026/01/image-8.png
END:VEVENT
BEGIN:VEVENT
DTSTART;TZID=Europe/Berlin:20260413T090000
DTEND;TZID=Europe/Berlin:20260415T180000
DTSTAMP:20260423T134934
CREATED:20260123T024245Z
LAST-MODIFIED:20260123T024245Z
UID:5166-1776070800-1776276000@420.school
SUMMARY:ICBC Berlin 2026
DESCRIPTION:Europe’s largest and longest-running Cannabis B2B event. Following German legalization\, this is the continent’s primary investment forum.  \nHighlights:  \n\nGlobal Investment Forum: Connecting capital with operators.\nMassive exhibition floor at the Estrel Hotel.\nHigh-level policy discussions on German social clubs.\n\nShare this:\n				Share on Bluesky (Opens in new window)\n				Bluesky\n			\n				Share on Reddit (Opens in new window)\n				Reddit\n			\n				Share on Pinterest (Opens in new window)\n				Pinterest\n			\n				Share on Facebook (Opens in new window)\n				Facebook\n			\n				Share on X (Opens in new window)\n				X\n			Like this:Like Loading...
URL:https://420.school/event/icbc-berlin-2026/
CATEGORIES:B2B,Conference,Events,Investment
END:VEVENT
BEGIN:VEVENT
DTSTART;TZID=America/Los_Angeles:20260318T100000
DTEND;TZID=America/Los_Angeles:20260319T170000
DTSTAMP:20260423T134934
CREATED:20260123T013051Z
LAST-MODIFIED:20260123T014046Z
UID:5108-1773828000-1773939600@420.school
SUMMARY:Hall of Flowers Ventura 2026
DESCRIPTION:The industry’s most curated B2B trade show\, designed to facilitate authentic connections between premium brands and retail buyers. Uniquely featuring an outdoor consumption lounge\, this event allows for genuine product sampling and evaluation. \nShare this:\n				Share on Bluesky (Opens in new window)\n				Bluesky\n			\n				Share on Reddit (Opens in new window)\n				Reddit\n			\n				Share on Pinterest (Opens in new window)\n				Pinterest\n			\n				Share on Facebook (Opens in new window)\n				Facebook\n			\n				Share on X (Opens in new window)\n				X\n			Like this:Like Loading...
URL:https://420.school/event/hall-of-flowers-ventura-2026/
LOCATION:Ventura County Fairgrounds\, Ventura\, California\, United States
CATEGORIES:B2B,California,Consumption,Events
END:VEVENT
BEGIN:VEVENT
DTSTART;TZID=America/New_York:20260312T100000
DTEND;TZID=America/New_York:20260314T180000
DTSTAMP:20260423T134934
CREATED:20260123T013050Z
LAST-MODIFIED:20260123T014045Z
UID:5107-1773309600-1773511200@420.school
SUMMARY:Alternative Products Expo Miami 2026
DESCRIPTION:A dynamic trade show exploring the frontier of alternative products including hemp\, kratom\, and functional mushrooms. This event serves as a bridge between the smoke shop retail channel and emerging cannabinoid innovations. \nShare this:\n				Share on Bluesky (Opens in new window)\n				Bluesky\n			\n				Share on Reddit (Opens in new window)\n				Reddit\n			\n				Share on Pinterest (Opens in new window)\n				Pinterest\n			\n				Share on Facebook (Opens in new window)\n				Facebook\n			\n				Share on X (Opens in new window)\n				X\n			Like this:Like Loading...
URL:https://420.school/event/alternative-products-expo-miami-2026/
CATEGORIES:Alternative,B2B,Events,Hemp
END:VEVENT
BEGIN:VEVENT
DTSTART;TZID=America/Chicago:20260227T100000
DTEND;TZID=America/Chicago:20260228T160000
DTSTAMP:20260423T134934
CREATED:20260123T013050Z
LAST-MODIFIED:20260125T181221Z
UID:5106-1772186400-1772294400@420.school
SUMMARY:Lucky Leaf Expo Minneapolis 2026
DESCRIPTION:Focuses on market-entry strategies and cold-climate cultivation as a prelude to the 4/20 holiday. [cite: 84] \nShare this:\n				Share on Bluesky (Opens in new window)\n				Bluesky\n			\n				Share on Reddit (Opens in new window)\n				Reddit\n			\n				Share on Pinterest (Opens in new window)\n				Pinterest\n			\n				Share on Facebook (Opens in new window)\n				Facebook\n			\n				Share on X (Opens in new window)\n				X\n			Like this:Like Loading...
URL:https://420.school/event/lucky-leaf-expo-minneapolis-2026/
LOCATION:Minneapolis Convention Center\, 1301 2nd Ave S\,\, Minneapolis\,\, Minnesota\, 55404\, United States
CATEGORIES:B2B,Events,Expo,Midwest
ATTACH;FMTTYPE=image/png:https://420.school/wp-content/uploads/2026/01/LuckyLeafExpo-email-036ad399-kRyudq.png
END:VEVENT
BEGIN:VEVENT
DTSTART;TZID=Europe/Paris:20260219T090000
DTEND;TZID=Europe/Paris:20260219T180000
DTSTAMP:20260423T134934
CREATED:20260123T024243Z
LAST-MODIFIED:20260123T024243Z
UID:5164-1771491600-1771524000@420.school
SUMMARY:Cannabis Europa Paris
DESCRIPTION:A focused executive summit addressing the French medical cannabis market as the country moves from pilot programs to permanent regulation.  \nKey topics:  \n\nPost-pilot regulatory frameworks.\nPharmaceutical reimbursement models.\nSupply chain opportunities in France.\n\nShare this:\n				Share on Bluesky (Opens in new window)\n				Bluesky\n			\n				Share on Reddit (Opens in new window)\n				Reddit\n			\n				Share on Pinterest (Opens in new window)\n				Pinterest\n			\n				Share on Facebook (Opens in new window)\n				Facebook\n			\n				Share on X (Opens in new window)\n				X\n			Like this:Like Loading...
URL:https://420.school/event/cannabis-europa-paris/
CATEGORIES:B2B,Conference,Events,Policy
END:VEVENT
BEGIN:VEVENT
DTSTART;TZID=America/Vancouver:20260119T090000
DTEND;TZID=America/Vancouver:20260121T170000
DTSTAMP:20260423T134934
CREATED:20260123T024242Z
LAST-MODIFIED:20260123T024242Z
UID:5163-1768813200-1769014800@420.school
SUMMARY:Grow Up Conference Vancouver
DESCRIPTION:The Grow Up Conference and Expo returns to the West Coast\, focusing on high-level cultivation practices\, genetics\, and the craft market.  \nFeatures include:  \n\nCannaVision Executive Summit (Jan 19) for C-suite leaders.\nThe Canadian Cannabis Championship live judging.\nWorkshops on micro-cultivation and extraction.\n\nShare this:\n				Share on Bluesky (Opens in new window)\n				Bluesky\n			\n				Share on Reddit (Opens in new window)\n				Reddit\n			\n				Share on Pinterest (Opens in new window)\n				Pinterest\n			\n				Share on Facebook (Opens in new window)\n				Facebook\n			\n				Share on X (Opens in new window)\n				X\n			Like this:Like Loading...
URL:https://420.school/event/grow-up-conference-vancouver/
CATEGORIES:B2B,Conference,Events,Expo
END:VEVENT
END:VCALENDAR