BEGIN:VCALENDAR
VERSION:2.0
PRODID:-//420 School - ECPv6.15.20//NONSGML v1.0//EN
CALSCALE:GREGORIAN
METHOD:PUBLISH
X-ORIGINAL-URL:https://420.school
X-WR-CALDESC:Events for 420 School
REFRESH-INTERVAL;VALUE=DURATION:PT1H
X-Robots-Tag:noindex
X-PUBLISHED-TTL:PT1H
BEGIN:VTIMEZONE
TZID:America/Chicago
BEGIN:DAYLIGHT
TZOFFSETFROM:-0600
TZOFFSETTO:-0500
TZNAME:CDT
DTSTART:20230312T080000
END:DAYLIGHT
BEGIN:STANDARD
TZOFFSETFROM:-0500
TZOFFSETTO:-0600
TZNAME:CST
DTSTART:20231105T070000
END:STANDARD
BEGIN:DAYLIGHT
TZOFFSETFROM:-0600
TZOFFSETTO:-0500
TZNAME:CDT
DTSTART:20240310T080000
END:DAYLIGHT
BEGIN:STANDARD
TZOFFSETFROM:-0500
TZOFFSETTO:-0600
TZNAME:CST
DTSTART:20241103T070000
END:STANDARD
BEGIN:DAYLIGHT
TZOFFSETFROM:-0600
TZOFFSETTO:-0500
TZNAME:CDT
DTSTART:20250309T080000
END:DAYLIGHT
BEGIN:STANDARD
TZOFFSETFROM:-0500
TZOFFSETTO:-0600
TZNAME:CST
DTSTART:20251102T070000
END:STANDARD
END:VTIMEZONE
BEGIN:VEVENT
DTSTART;TZID=America/Chicago:20241025T080000
DTEND;TZID=America/Chicago:20241026T170000
DTSTAMP:20260425T203316
CREATED:20240210T203654Z
LAST-MODIFIED:20240329T135426Z
UID:241-1729843200-1729962000@420.school
SUMMARY:New York Cannabis Convention
DESCRIPTION:The New York Cannabis & Hemp Convention\, organized by NECANN\, is set for October 25-26\, 2024\, at the NYS Fairgrounds – Center of Progress Building in Syracuse\, NY. This event is highlighted as a must-attend for those involved in the Empire State’s cannabis and hemp industries\, offering a platform for networking\, showcasing new products\, and discussing industry trends.  \n\n\n\nFor more details\, visit the event’s official page here. \n\n\n\n\n\n\n\n\n\n\nShare this:\n				Share on Bluesky (Opens in new window)\n				Bluesky\n			\n				Share on Reddit (Opens in new window)\n				Reddit\n			\n				Share on Pinterest (Opens in new window)\n				Pinterest\n			\n				Share on Facebook (Opens in new window)\n				Facebook\n			\n				Share on X (Opens in new window)\n				X\n			Like this:Like Loading...
URL:https://420.school/event/new-york-cannabis-hemp-convention/
LOCATION:Albany Capital Center\, 55 Eagle St\, Albany\, New York\, 12207\, United States
CATEGORIES:Events
ATTACH;FMTTYPE=image/webp:https://420.school/wp-content/uploads/2024/01/necann-logo-400-times-200-px-.webp
END:VEVENT
END:VCALENDAR