BEGIN:VCALENDAR
VERSION:2.0
PRODID:-//420 School - ECPv6.15.20//NONSGML v1.0//EN
CALSCALE:GREGORIAN
METHOD:PUBLISH
X-WR-CALNAME:420 School
X-ORIGINAL-URL:https://420.school
X-WR-CALDESC:Events for 420 School
REFRESH-INTERVAL;VALUE=DURATION:PT1H
X-Robots-Tag:noindex
X-PUBLISHED-TTL:PT1H
BEGIN:VTIMEZONE
TZID:America/Chicago
BEGIN:DAYLIGHT
TZOFFSETFROM:-0600
TZOFFSETTO:-0500
TZNAME:CDT
DTSTART:20230312T080000
END:DAYLIGHT
BEGIN:STANDARD
TZOFFSETFROM:-0500
TZOFFSETTO:-0600
TZNAME:CST
DTSTART:20231105T070000
END:STANDARD
BEGIN:DAYLIGHT
TZOFFSETFROM:-0600
TZOFFSETTO:-0500
TZNAME:CDT
DTSTART:20240310T080000
END:DAYLIGHT
BEGIN:STANDARD
TZOFFSETFROM:-0500
TZOFFSETTO:-0600
TZNAME:CST
DTSTART:20241103T070000
END:STANDARD
BEGIN:DAYLIGHT
TZOFFSETFROM:-0600
TZOFFSETTO:-0500
TZNAME:CDT
DTSTART:20250309T080000
END:DAYLIGHT
BEGIN:STANDARD
TZOFFSETFROM:-0500
TZOFFSETTO:-0600
TZNAME:CST
DTSTART:20251102T070000
END:STANDARD
END:VTIMEZONE
BEGIN:VTIMEZONE
TZID:UTC
BEGIN:STANDARD
TZOFFSETFROM:+0000
TZOFFSETTO:+0000
TZNAME:UTC
DTSTART:20230101T000000
END:STANDARD
END:VTIMEZONE
BEGIN:VEVENT
DTSTART;TZID=America/Chicago:20240927T080000
DTEND;TZID=America/Chicago:20240928T170000
DTSTAMP:20260425T221301
CREATED:20240201T232836Z
LAST-MODIFIED:20240201T232838Z
UID:182-1727424000-1727542800@420.school
SUMMARY:Hall of Flowers - Santa Rosa
DESCRIPTION:The Hall of Flowers California is a prominent B2B trade show aimed at connecting cannabis industry professionals. It features a wide array of exhibitors\, including innovative cannabis brands\, and offers numerous networking opportunities. The event focuses on fostering growth and collaboration within the cannabis market.  \n\n\n\nFor more details on the event’s offerings and how to participate\, visit their website. \n\n\n\n\n\n\n\n\n\n\nShare this:\n				Share on Bluesky (Opens in new window)\n				Bluesky\n			\n				Share on Reddit (Opens in new window)\n				Reddit\n			\n				Share on Pinterest (Opens in new window)\n				Pinterest\n			\n				Share on Facebook (Opens in new window)\n				Facebook\n			\n				Share on X (Opens in new window)\n				X\n			Like this:Like Loading...
URL:https://420.school/event/hall-of-flowers-santa-rosa/
LOCATION:Sonoma County Fairgrounds\, 1350 Bennett Valley Rd\, Santa Rosa\, California\, 95404\, United States
CATEGORIES:Events
ATTACH;FMTTYPE=image/png:https://420.school/wp-content/uploads/2024/01/HOF_Logo.png
END:VEVENT
BEGIN:VEVENT
DTSTART;TZID=UTC:20240927T100000
DTEND;TZID=UTC:20240928T170000
DTSTAMP:20260425T221301
CREATED:20240126T042343Z
LAST-MODIFIED:20240127T000317Z
UID:57-1727431200-1727542800@420.school
SUMMARY:Lucky Leaf Expo – Albuquerque
DESCRIPTION:The Lucky Leaf Expo in Albuquerque\, scheduled for September 27-28\, 2024\, is a significant cannabis industry event at the Albuquerque Convention Center. It features over 100 exhibitors\, a variety of speakers\, and more than 30 educational sessions and live demonstrations. The expo provides a platform for networking and learning\, catering to both new and veteran participants in the cannabis industry. It aims to explore new business opportunities in the wake of New Mexico’s evolving cannabis laws. \n\n\n\nFor more detailed information\, you can visit the event’s page here. \n\n\n\n\n\n\n\n\n\n\nShare this:\n				Share on Bluesky (Opens in new window)\n				Bluesky\n			\n				Share on Reddit (Opens in new window)\n				Reddit\n			\n				Share on Pinterest (Opens in new window)\n				Pinterest\n			\n				Share on Facebook (Opens in new window)\n				Facebook\n			\n				Share on X (Opens in new window)\n				X\n			Like this:Like Loading...
URL:https://420.school/event/lucky-leaf-expo-albuquerque/
LOCATION:Albuquerque Convention Center\, 401 2nd St NW\, Albuquerque\, New Mexico\, 87102\, United States
ATTACH;FMTTYPE=image/webp:https://420.school/wp-content/uploads/2024/01/LuckyLeafExpo-email-32544de9.webp
END:VEVENT
END:VCALENDAR